BEGIN:VCALENDAR
VERSION:2.0
PRODID:-//The Door Southeast San Antonio - ECPv6.15.20//NONSGML v1.0//EN
CALSCALE:GREGORIAN
METHOD:PUBLISH
X-ORIGINAL-URL:https://thedoorse.com
X-WR-CALDESC:Events for The Door Southeast San Antonio
REFRESH-INTERVAL;VALUE=DURATION:PT1H
X-Robots-Tag:noindex
X-PUBLISHED-TTL:PT1H
BEGIN:VTIMEZONE
TZID:America/Chicago
BEGIN:DAYLIGHT
TZOFFSETFROM:-0600
TZOFFSETTO:-0500
TZNAME:CDT
DTSTART:20160313T080000
END:DAYLIGHT
BEGIN:STANDARD
TZOFFSETFROM:-0500
TZOFFSETTO:-0600
TZNAME:CST
DTSTART:20161106T070000
END:STANDARD
BEGIN:DAYLIGHT
TZOFFSETFROM:-0600
TZOFFSETTO:-0500
TZNAME:CDT
DTSTART:20170312T080000
END:DAYLIGHT
BEGIN:STANDARD
TZOFFSETFROM:-0500
TZOFFSETTO:-0600
TZNAME:CST
DTSTART:20171105T070000
END:STANDARD
BEGIN:DAYLIGHT
TZOFFSETFROM:-0600
TZOFFSETTO:-0500
TZNAME:CDT
DTSTART:20180311T080000
END:DAYLIGHT
BEGIN:STANDARD
TZOFFSETFROM:-0500
TZOFFSETTO:-0600
TZNAME:CST
DTSTART:20181104T070000
END:STANDARD
END:VTIMEZONE
BEGIN:VEVENT
DTSTART;TZID=America/Chicago:20171220T193000
DTEND;TZID=America/Chicago:20171220T210000
DTSTAMP:20260421T005203
CREATED:20171128T170730Z
LAST-MODIFIED:20171128T170745Z
UID:30658-1513798200-1513803600@thedoorse.com
SUMMARY:The Grinch Who Got Saved - Play
DESCRIPTION:Children’s Church play\, The Grinch who got saved! December 20th 7:30 pm.
URL:https://thedoorse.com/event/the-grinch-who-got-saved-play/
LOCATION:The Door Southeast Church\, 1702 GOLIAD RD\, San Antonio\, TX\, 78223\, United States
CATEGORIES:Play
END:VEVENT
END:VCALENDAR