BEGIN:VCALENDAR
VERSION:2.0
PRODID:-//The Door Southeast San Antonio - ECPv6.15.20//NONSGML v1.0//EN
CALSCALE:GREGORIAN
METHOD:PUBLISH
X-ORIGINAL-URL:https://thedoorse.com
X-WR-CALDESC:Events for The Door Southeast San Antonio
REFRESH-INTERVAL;VALUE=DURATION:PT1H
X-Robots-Tag:noindex
X-PUBLISHED-TTL:PT1H
BEGIN:VTIMEZONE
TZID:America/Chicago
BEGIN:DAYLIGHT
TZOFFSETFROM:-0600
TZOFFSETTO:-0500
TZNAME:CDT
DTSTART:20190310T080000
END:DAYLIGHT
BEGIN:STANDARD
TZOFFSETFROM:-0500
TZOFFSETTO:-0600
TZNAME:CST
DTSTART:20191103T070000
END:STANDARD
BEGIN:DAYLIGHT
TZOFFSETFROM:-0600
TZOFFSETTO:-0500
TZNAME:CDT
DTSTART:20200308T080000
END:DAYLIGHT
BEGIN:STANDARD
TZOFFSETFROM:-0500
TZOFFSETTO:-0600
TZNAME:CST
DTSTART:20201101T070000
END:STANDARD
BEGIN:DAYLIGHT
TZOFFSETFROM:-0600
TZOFFSETTO:-0500
TZNAME:CDT
DTSTART:20210314T080000
END:DAYLIGHT
BEGIN:STANDARD
TZOFFSETFROM:-0500
TZOFFSETTO:-0600
TZNAME:CST
DTSTART:20211107T070000
END:STANDARD
END:VTIMEZONE
BEGIN:VEVENT
DTSTART;TZID=America/Chicago:20200530T120000
DTEND;TZID=America/Chicago:20200530T140000
DTSTAMP:20260420T192258
CREATED:20200119T032354Z
LAST-MODIFIED:20200119T033029Z
UID:32113-1590840000-1590847200@thedoorse.com
SUMMARY:Outreach
DESCRIPTION:Come join us to spread the gospel message.
URL:https://thedoorse.com/event/outreach-2020-05-30/
CATEGORIES:Special Events
END:VEVENT
BEGIN:VEVENT
DTSTART;TZID=America/Chicago:20200523T120000
DTEND;TZID=America/Chicago:20200523T140000
DTSTAMP:20260420T192258
CREATED:20200119T032354Z
LAST-MODIFIED:20200119T033029Z
UID:32112-1590235200-1590242400@thedoorse.com
SUMMARY:Outreach
DESCRIPTION:Come join us to spread the gospel message.
URL:https://thedoorse.com/event/outreach-2020-05-23/
CATEGORIES:Special Events
END:VEVENT
BEGIN:VEVENT
DTSTART;TZID=America/Chicago:20200516T120000
DTEND;TZID=America/Chicago:20200516T140000
DTSTAMP:20260420T192258
CREATED:20200119T032354Z
LAST-MODIFIED:20200119T033029Z
UID:32111-1589630400-1589637600@thedoorse.com
SUMMARY:Outreach
DESCRIPTION:Come join us to spread the gospel message.
URL:https://thedoorse.com/event/outreach-2020-05-16/
CATEGORIES:Special Events
END:VEVENT
BEGIN:VEVENT
DTSTART;TZID=America/Chicago:20200509T120000
DTEND;TZID=America/Chicago:20200509T140000
DTSTAMP:20260420T192258
CREATED:20200119T032354Z
LAST-MODIFIED:20200119T033028Z
UID:32110-1589025600-1589032800@thedoorse.com
SUMMARY:Outreach
DESCRIPTION:Come join us to spread the gospel message.
URL:https://thedoorse.com/event/outreach-2020-05-09/
CATEGORIES:Special Events
END:VEVENT
BEGIN:VEVENT
DTSTART;TZID=America/Chicago:20200502T120000
DTEND;TZID=America/Chicago:20200502T140000
DTSTAMP:20260420T192258
CREATED:20200119T032354Z
LAST-MODIFIED:20200119T033028Z
UID:32109-1588420800-1588428000@thedoorse.com
SUMMARY:Outreach
DESCRIPTION:Come join us to spread the gospel message.
URL:https://thedoorse.com/event/outreach-2020-05-02/
CATEGORIES:Special Events
END:VEVENT
BEGIN:VEVENT
DTSTART;TZID=America/Chicago:20200425T120000
DTEND;TZID=America/Chicago:20200425T140000
DTSTAMP:20260420T192258
CREATED:20200119T032354Z
LAST-MODIFIED:20200119T033028Z
UID:32108-1587816000-1587823200@thedoorse.com
SUMMARY:Outreach
DESCRIPTION:Come join us to spread the gospel message.
URL:https://thedoorse.com/event/outreach-2020-04-25/
CATEGORIES:Special Events
END:VEVENT
BEGIN:VEVENT
DTSTART;TZID=America/Chicago:20200418T120000
DTEND;TZID=America/Chicago:20200418T140000
DTSTAMP:20260420T192258
CREATED:20200119T032354Z
LAST-MODIFIED:20200119T033027Z
UID:32107-1587211200-1587218400@thedoorse.com
SUMMARY:Outreach
DESCRIPTION:Come join us to spread the gospel message.
URL:https://thedoorse.com/event/outreach-2020-04-18/
CATEGORIES:Special Events
END:VEVENT
BEGIN:VEVENT
DTSTART;TZID=America/Chicago:20200411T120000
DTEND;TZID=America/Chicago:20200411T140000
DTSTAMP:20260420T192258
CREATED:20200119T032354Z
LAST-MODIFIED:20200119T033027Z
UID:32106-1586606400-1586613600@thedoorse.com
SUMMARY:Outreach
DESCRIPTION:Come join us to spread the gospel message.
URL:https://thedoorse.com/event/outreach-2020-04-11/
CATEGORIES:Special Events
END:VEVENT
BEGIN:VEVENT
DTSTART;TZID=America/Chicago:20200404T120000
DTEND;TZID=America/Chicago:20200404T140000
DTSTAMP:20260420T192258
CREATED:20200119T032354Z
LAST-MODIFIED:20200119T033019Z
UID:32105-1586001600-1586008800@thedoorse.com
SUMMARY:Outreach
DESCRIPTION:Come join us to spread the gospel message.
URL:https://thedoorse.com/event/outreach-2020-04-04/
CATEGORIES:Special Events
END:VEVENT
BEGIN:VEVENT
DTSTART;TZID=America/Chicago:20200328T120000
DTEND;TZID=America/Chicago:20200328T140000
DTSTAMP:20260420T192258
CREATED:20200119T032354Z
LAST-MODIFIED:20200119T033019Z
UID:32104-1585396800-1585404000@thedoorse.com
SUMMARY:Outreach
DESCRIPTION:Come join us to spread the gospel message.
URL:https://thedoorse.com/event/outreach-2020-03-28/
CATEGORIES:Special Events
END:VEVENT
BEGIN:VEVENT
DTSTART;TZID=America/Chicago:20200321T120000
DTEND;TZID=America/Chicago:20200321T140000
DTSTAMP:20260420T192258
CREATED:20200119T032354Z
LAST-MODIFIED:20200119T033019Z
UID:32103-1584792000-1584799200@thedoorse.com
SUMMARY:Outreach
DESCRIPTION:Come join us to spread the gospel message.
URL:https://thedoorse.com/event/outreach-2020-03-21/
CATEGORIES:Special Events
END:VEVENT
BEGIN:VEVENT
DTSTART;TZID=America/Chicago:20200314T120000
DTEND;TZID=America/Chicago:20200314T140000
DTSTAMP:20260420T192258
CREATED:20200119T032354Z
LAST-MODIFIED:20200314T012037Z
UID:32102-1584187200-1584194400@thedoorse.com
SUMMARY:Outreach @ The Great NW Church
DESCRIPTION:Come join us to spread the gospel message.
URL:https://thedoorse.com/event/outreach-2020-03-14/
LOCATION:The Door Christian Fellowship Great Northwest\, 6111 Tezel Rd #103\, San Antonio\, TX\, 78250\, United States
CATEGORIES:Special Events
END:VEVENT
BEGIN:VEVENT
DTSTART;TZID=America/Chicago:20200307T120000
DTEND;TZID=America/Chicago:20200307T140000
DTSTAMP:20260420T192258
CREATED:20200119T032354Z
LAST-MODIFIED:20200119T033017Z
UID:32101-1583582400-1583589600@thedoorse.com
SUMMARY:Outreach
DESCRIPTION:Come join us to spread the gospel message.
URL:https://thedoorse.com/event/outreach-2020-03-07/
CATEGORIES:Special Events
END:VEVENT
BEGIN:VEVENT
DTSTART;TZID=America/Chicago:20200229T120000
DTEND;TZID=America/Chicago:20200229T140000
DTSTAMP:20260420T192258
CREATED:20200119T032354Z
LAST-MODIFIED:20200119T033017Z
UID:32100-1582977600-1582984800@thedoorse.com
SUMMARY:Outreach
DESCRIPTION:Come join us to spread the gospel message.
URL:https://thedoorse.com/event/outreach-2020-02-29/
CATEGORIES:Special Events
END:VEVENT
BEGIN:VEVENT
DTSTART;TZID=America/Chicago:20200222T120000
DTEND;TZID=America/Chicago:20200222T140000
DTSTAMP:20260420T192258
CREATED:20200119T032354Z
LAST-MODIFIED:20200119T033016Z
UID:32099-1582372800-1582380000@thedoorse.com
SUMMARY:Outreach
DESCRIPTION:Come join us to spread the gospel message.
URL:https://thedoorse.com/event/outreach-2020-02-22/
CATEGORIES:Special Events
END:VEVENT
BEGIN:VEVENT
DTSTART;TZID=America/Chicago:20200215T120000
DTEND;TZID=America/Chicago:20200215T140000
DTSTAMP:20260420T192258
CREATED:20200119T032354Z
LAST-MODIFIED:20200119T033016Z
UID:32098-1581768000-1581775200@thedoorse.com
SUMMARY:Outreach
DESCRIPTION:Come join us to spread the gospel message.
URL:https://thedoorse.com/event/outreach-2020-02-15/
CATEGORIES:Special Events
END:VEVENT
BEGIN:VEVENT
DTSTART;TZID=America/Chicago:20200215T090000
DTEND;TZID=America/Chicago:20200215T120000
DTSTAMP:20260420T192258
CREATED:20200119T031245Z
LAST-MODIFIED:20200119T031245Z
UID:32087-1581757200-1581768000@thedoorse.com
SUMMARY:Marriage Retreat
DESCRIPTION:Staybridge Suites Stone Oak \n808 N Loop 1604\, East 78232 \nDinner at Chama Gaucha Brazilian Steakhouse 8:30pm \n$230 \n 
URL:https://thedoorse.com/event/marriage-retreat-2020-02-15/
CATEGORIES:Special Events
END:VEVENT
BEGIN:VEVENT
DTSTART;TZID=America/Chicago:20200214T203000
DTEND;TZID=America/Chicago:20200214T223000
DTSTAMP:20260420T192258
CREATED:20200119T031245Z
LAST-MODIFIED:20200119T031457Z
UID:32078-1581712200-1581719400@thedoorse.com
SUMMARY:Marriage Retreat
DESCRIPTION:Staybridge Suites Stone Oak \n808 N Loop 1604\, East 78232 \nDinner at Chama Gaucha Brazilian Steakhouse 8:30pm \n$230 \n 
URL:https://thedoorse.com/event/marriage-retreat/
CATEGORIES:Special Events
END:VEVENT
BEGIN:VEVENT
DTSTART;TZID=America/Chicago:20200208T120000
DTEND;TZID=America/Chicago:20200208T140000
DTSTAMP:20260420T192258
CREATED:20200119T032354Z
LAST-MODIFIED:20200119T033016Z
UID:32097-1581163200-1581170400@thedoorse.com
SUMMARY:Outreach
DESCRIPTION:Come join us to spread the gospel message.
URL:https://thedoorse.com/event/outreach-2020-02-08/
CATEGORIES:Special Events
END:VEVENT
BEGIN:VEVENT
DTSTART;TZID=America/Chicago:20200201T120000
DTEND;TZID=America/Chicago:20200201T140000
DTSTAMP:20260420T192258
CREATED:20200119T032354Z
LAST-MODIFIED:20200119T033015Z
UID:32096-1580558400-1580565600@thedoorse.com
SUMMARY:Outreach
DESCRIPTION:Come join us to spread the gospel message.
URL:https://thedoorse.com/event/outreach-2020-02-01/
CATEGORIES:Special Events
END:VEVENT
BEGIN:VEVENT
DTSTART;TZID=America/Chicago:20200125T120000
DTEND;TZID=America/Chicago:20200125T140000
DTSTAMP:20260420T192258
CREATED:20200119T032354Z
LAST-MODIFIED:20200119T033014Z
UID:32092-1579953600-1579960800@thedoorse.com
SUMMARY:Outreach
DESCRIPTION:Come join us to spread the gospel message.
URL:https://thedoorse.com/event/outreach/
CATEGORIES:Special Events
END:VEVENT
BEGIN:VEVENT
DTSTART;VALUE=DATE:20200120
DTEND;VALUE=DATE:20200126
DTSTAMP:20260420T192258
CREATED:20200119T025448Z
LAST-MODIFIED:20200119T025821Z
UID:32069-1579478400-1579996799@thedoorse.com
SUMMARY:Mexico City Healing Crusade
DESCRIPTION:Pastor Wayman Mitchell will be ministering a healing crusade in Mexico City. Please keep our Pastor and Mexico City in prayer. Expect miracle healings!
URL:https://thedoorse.com/event/mexico-city-healing-crusade/
CATEGORIES:Special Events
END:VEVENT
END:VCALENDAR