BEGIN:VCALENDAR
VERSION:2.0
PRODID:-//The Door Southeast San Antonio - ECPv6.15.20//NONSGML v1.0//EN
CALSCALE:GREGORIAN
METHOD:PUBLISH
X-WR-CALNAME:The Door Southeast San Antonio
X-ORIGINAL-URL:https://thedoorse.com
X-WR-CALDESC:Events for The Door Southeast San Antonio
REFRESH-INTERVAL;VALUE=DURATION:PT1H
X-Robots-Tag:noindex
X-PUBLISHED-TTL:PT1H
BEGIN:VTIMEZONE
TZID:America/Chicago
BEGIN:DAYLIGHT
TZOFFSETFROM:-0600
TZOFFSETTO:-0500
TZNAME:CDT
DTSTART:20190310T080000
END:DAYLIGHT
BEGIN:STANDARD
TZOFFSETFROM:-0500
TZOFFSETTO:-0600
TZNAME:CST
DTSTART:20191103T070000
END:STANDARD
BEGIN:DAYLIGHT
TZOFFSETFROM:-0600
TZOFFSETTO:-0500
TZNAME:CDT
DTSTART:20200308T080000
END:DAYLIGHT
BEGIN:STANDARD
TZOFFSETFROM:-0500
TZOFFSETTO:-0600
TZNAME:CST
DTSTART:20201101T070000
END:STANDARD
BEGIN:DAYLIGHT
TZOFFSETFROM:-0600
TZOFFSETTO:-0500
TZNAME:CDT
DTSTART:20210314T080000
END:DAYLIGHT
BEGIN:STANDARD
TZOFFSETFROM:-0500
TZOFFSETTO:-0600
TZNAME:CST
DTSTART:20211107T070000
END:STANDARD
BEGIN:DAYLIGHT
TZOFFSETFROM:-0600
TZOFFSETTO:-0500
TZNAME:CDT
DTSTART:20220313T080000
END:DAYLIGHT
BEGIN:STANDARD
TZOFFSETFROM:-0500
TZOFFSETTO:-0600
TZNAME:CST
DTSTART:20221106T070000
END:STANDARD
END:VTIMEZONE
BEGIN:VEVENT
DTSTART;TZID=America/Chicago:20210314T110000
DTEND;TZID=America/Chicago:20210314T123000
DTSTAMP:20260419T131756
CREATED:20171128T165316Z
LAST-MODIFIED:20200517T044126Z
UID:30879-1615719600-1615725000@thedoorse.com
SUMMARY:Worship Services
DESCRIPTION:  \n\nPrayer 6pm to 7pm\nEvening Service 7pm to 8:30pm\n\n 
URL:https://thedoorse.com/event/worship-services-2021-03-14/
LOCATION:The Door Southeast Church\, 1702 GOLIAD RD\, San Antonio\, TX\, 78223\, United States
CATEGORIES:Worship Service
END:VEVENT
BEGIN:VEVENT
DTSTART;TZID=America/Chicago:20210307T110000
DTEND;TZID=America/Chicago:20210307T123000
DTSTAMP:20260419T131756
CREATED:20171128T165316Z
LAST-MODIFIED:20200517T044126Z
UID:30877-1615114800-1615120200@thedoorse.com
SUMMARY:Worship Services
DESCRIPTION:  \n\nPrayer 6pm to 7pm\nEvening Service 7pm to 8:30pm\n\n 
URL:https://thedoorse.com/event/worship-services-2021-03-07/
LOCATION:The Door Southeast Church\, 1702 GOLIAD RD\, San Antonio\, TX\, 78223\, United States
CATEGORIES:Worship Service
END:VEVENT
BEGIN:VEVENT
DTSTART;TZID=America/Chicago:20210228T110000
DTEND;TZID=America/Chicago:20210228T123000
DTSTAMP:20260419T131756
CREATED:20171128T165316Z
LAST-MODIFIED:20200517T044126Z
UID:30875-1614510000-1614515400@thedoorse.com
SUMMARY:Worship Services
DESCRIPTION:  \n\nPrayer 6pm to 7pm\nEvening Service 7pm to 8:30pm\n\n 
URL:https://thedoorse.com/event/worship-services-2021-02-28/
LOCATION:The Door Southeast Church\, 1702 GOLIAD RD\, San Antonio\, TX\, 78223\, United States
CATEGORIES:Worship Service
END:VEVENT
BEGIN:VEVENT
DTSTART;TZID=America/Chicago:20210221T110000
DTEND;TZID=America/Chicago:20210221T123000
DTSTAMP:20260419T131756
CREATED:20171128T165316Z
LAST-MODIFIED:20200517T044126Z
UID:30873-1613905200-1613910600@thedoorse.com
SUMMARY:Worship Services
DESCRIPTION:  \n\nPrayer 6pm to 7pm\nEvening Service 7pm to 8:30pm\n\n 
URL:https://thedoorse.com/event/worship-services-2021-02-21/
LOCATION:The Door Southeast Church\, 1702 GOLIAD RD\, San Antonio\, TX\, 78223\, United States
CATEGORIES:Worship Service
END:VEVENT
BEGIN:VEVENT
DTSTART;TZID=America/Chicago:20210214T110000
DTEND;TZID=America/Chicago:20210214T123000
DTSTAMP:20260419T131756
CREATED:20171128T165316Z
LAST-MODIFIED:20200517T044125Z
UID:30871-1613300400-1613305800@thedoorse.com
SUMMARY:Worship Services
DESCRIPTION:  \n\nPrayer 6pm to 7pm\nEvening Service 7pm to 8:30pm\n\n 
URL:https://thedoorse.com/event/worship-services-2021-02-14/
LOCATION:The Door Southeast Church\, 1702 GOLIAD RD\, San Antonio\, TX\, 78223\, United States
CATEGORIES:Worship Service
END:VEVENT
BEGIN:VEVENT
DTSTART;TZID=America/Chicago:20210207T110000
DTEND;TZID=America/Chicago:20210207T123000
DTSTAMP:20260419T131756
CREATED:20171128T165316Z
LAST-MODIFIED:20200517T044125Z
UID:30869-1612695600-1612701000@thedoorse.com
SUMMARY:Worship Services
DESCRIPTION:  \n\nPrayer 6pm to 7pm\nEvening Service 7pm to 8:30pm\n\n 
URL:https://thedoorse.com/event/worship-services-2021-02-07/
LOCATION:The Door Southeast Church\, 1702 GOLIAD RD\, San Antonio\, TX\, 78223\, United States
CATEGORIES:Worship Service
END:VEVENT
BEGIN:VEVENT
DTSTART;TZID=America/Chicago:20210131T110000
DTEND;TZID=America/Chicago:20210131T123000
DTSTAMP:20260419T131756
CREATED:20171128T165316Z
LAST-MODIFIED:20200517T044125Z
UID:30867-1612090800-1612096200@thedoorse.com
SUMMARY:Worship Services
DESCRIPTION:  \n\nPrayer 6pm to 7pm\nEvening Service 7pm to 8:30pm\n\n 
URL:https://thedoorse.com/event/worship-services-2021-01-31/
LOCATION:The Door Southeast Church\, 1702 GOLIAD RD\, San Antonio\, TX\, 78223\, United States
CATEGORIES:Worship Service
END:VEVENT
BEGIN:VEVENT
DTSTART;TZID=America/Chicago:20210124T110000
DTEND;TZID=America/Chicago:20210124T123000
DTSTAMP:20260419T131756
CREATED:20171128T165316Z
LAST-MODIFIED:20200517T044123Z
UID:30865-1611486000-1611491400@thedoorse.com
SUMMARY:Worship Services
DESCRIPTION:  \n\nPrayer 6pm to 7pm\nEvening Service 7pm to 8:30pm\n\n 
URL:https://thedoorse.com/event/worship-services-2021-01-24/
LOCATION:The Door Southeast Church\, 1702 GOLIAD RD\, San Antonio\, TX\, 78223\, United States
CATEGORIES:Worship Service
END:VEVENT
BEGIN:VEVENT
DTSTART;TZID=America/Chicago:20210117T110000
DTEND;TZID=America/Chicago:20210117T123000
DTSTAMP:20260419T131756
CREATED:20171128T165316Z
LAST-MODIFIED:20200517T044123Z
UID:30863-1610881200-1610886600@thedoorse.com
SUMMARY:Worship Services
DESCRIPTION:  \n\nPrayer 6pm to 7pm\nEvening Service 7pm to 8:30pm\n\n 
URL:https://thedoorse.com/event/worship-services-2021-01-17/
LOCATION:The Door Southeast Church\, 1702 GOLIAD RD\, San Antonio\, TX\, 78223\, United States
CATEGORIES:Worship Service
END:VEVENT
BEGIN:VEVENT
DTSTART;TZID=America/Chicago:20210110T110000
DTEND;TZID=America/Chicago:20210110T123000
DTSTAMP:20260419T131756
CREATED:20171128T165316Z
LAST-MODIFIED:20200517T044123Z
UID:30861-1610276400-1610281800@thedoorse.com
SUMMARY:Worship Services
DESCRIPTION:  \n\nPrayer 6pm to 7pm\nEvening Service 7pm to 8:30pm\n\n 
URL:https://thedoorse.com/event/worship-services-2021-01-10/
LOCATION:The Door Southeast Church\, 1702 GOLIAD RD\, San Antonio\, TX\, 78223\, United States
CATEGORIES:Worship Service
END:VEVENT
BEGIN:VEVENT
DTSTART;TZID=America/Chicago:20210103T110000
DTEND;TZID=America/Chicago:20210103T123000
DTSTAMP:20260419T131756
CREATED:20171128T165316Z
LAST-MODIFIED:20200517T044123Z
UID:30859-1609671600-1609677000@thedoorse.com
SUMMARY:Worship Services
DESCRIPTION:  \n\nPrayer 6pm to 7pm\nEvening Service 7pm to 8:30pm\n\n 
URL:https://thedoorse.com/event/worship-services-2021-01-03/
LOCATION:The Door Southeast Church\, 1702 GOLIAD RD\, San Antonio\, TX\, 78223\, United States
CATEGORIES:Worship Service
END:VEVENT
BEGIN:VEVENT
DTSTART;TZID=America/Chicago:20201227T110000
DTEND;TZID=America/Chicago:20201227T123000
DTSTAMP:20260419T131756
CREATED:20171128T165316Z
LAST-MODIFIED:20200517T044122Z
UID:30857-1609066800-1609072200@thedoorse.com
SUMMARY:Worship Services
DESCRIPTION:  \n\nPrayer 6pm to 7pm\nEvening Service 7pm to 8:30pm\n\n 
URL:https://thedoorse.com/event/worship-services-2020-12-27/
LOCATION:The Door Southeast Church\, 1702 GOLIAD RD\, San Antonio\, TX\, 78223\, United States
CATEGORIES:Worship Service
END:VEVENT
BEGIN:VEVENT
DTSTART;TZID=America/Chicago:20201227T083000
DTEND;TZID=America/Chicago:20201227T093000
DTSTAMP:20260419T131756
CREATED:20200118T231054Z
LAST-MODIFIED:20200118T231500Z
UID:31113-1609057800-1609061400@thedoorse.com
SUMMARY:Serious Men's Class
DESCRIPTION:For men only. Punctuality demonstrates your commitment. Please arrive 5 minutes before class begins. Men arriving after 8:30am will not be permitted in the class.
URL:https://thedoorse.com/event/serious-mens-class-2020-12-27/
LOCATION:The Door Southeast Church\, 1702 GOLIAD RD\, San Antonio\, TX\, 78223\, United States
END:VEVENT
BEGIN:VEVENT
DTSTART;TZID=America/Chicago:20201220T110000
DTEND;TZID=America/Chicago:20201220T123000
DTSTAMP:20260419T131756
CREATED:20171128T165316Z
LAST-MODIFIED:20200517T044122Z
UID:30855-1608462000-1608467400@thedoorse.com
SUMMARY:Worship Services
DESCRIPTION:  \n\nPrayer 6pm to 7pm\nEvening Service 7pm to 8:30pm\n\n 
URL:https://thedoorse.com/event/worship-services-2020-12-20/
LOCATION:The Door Southeast Church\, 1702 GOLIAD RD\, San Antonio\, TX\, 78223\, United States
CATEGORIES:Worship Service
END:VEVENT
BEGIN:VEVENT
DTSTART;TZID=America/Chicago:20201220T083000
DTEND;TZID=America/Chicago:20201220T093000
DTSTAMP:20260419T131756
CREATED:20200118T231054Z
LAST-MODIFIED:20200118T231459Z
UID:31111-1608453000-1608456600@thedoorse.com
SUMMARY:Serious Men's Class
DESCRIPTION:For men only. Punctuality demonstrates your commitment. Please arrive 5 minutes before class begins. Men arriving after 8:30am will not be permitted in the class.
URL:https://thedoorse.com/event/serious-mens-class-2020-12-20/
LOCATION:The Door Southeast Church\, 1702 GOLIAD RD\, San Antonio\, TX\, 78223\, United States
END:VEVENT
BEGIN:VEVENT
DTSTART;TZID=America/Chicago:20201213T110000
DTEND;TZID=America/Chicago:20201213T123000
DTSTAMP:20260419T131756
CREATED:20171128T165316Z
LAST-MODIFIED:20200517T044122Z
UID:30853-1607857200-1607862600@thedoorse.com
SUMMARY:Worship Services
DESCRIPTION:  \n\nPrayer 6pm to 7pm\nEvening Service 7pm to 8:30pm\n\n 
URL:https://thedoorse.com/event/worship-services-2020-12-13/
LOCATION:The Door Southeast Church\, 1702 GOLIAD RD\, San Antonio\, TX\, 78223\, United States
CATEGORIES:Worship Service
END:VEVENT
BEGIN:VEVENT
DTSTART;TZID=America/Chicago:20201213T083000
DTEND;TZID=America/Chicago:20201213T093000
DTSTAMP:20260419T131756
CREATED:20200118T231054Z
LAST-MODIFIED:20200118T231458Z
UID:31109-1607848200-1607851800@thedoorse.com
SUMMARY:Serious Men's Class
DESCRIPTION:For men only. Punctuality demonstrates your commitment. Please arrive 5 minutes before class begins. Men arriving after 8:30am will not be permitted in the class.
URL:https://thedoorse.com/event/serious-mens-class-2020-12-13/
LOCATION:The Door Southeast Church\, 1702 GOLIAD RD\, San Antonio\, TX\, 78223\, United States
END:VEVENT
BEGIN:VEVENT
DTSTART;TZID=America/Chicago:20201207T083000
DTEND;TZID=America/Chicago:20201207T093000
DTSTAMP:20260419T131756
CREATED:20200118T231054Z
LAST-MODIFIED:20200118T231458Z
UID:31108-1607329800-1607333400@thedoorse.com
SUMMARY:Serious Men's Class
DESCRIPTION:For men only. Punctuality demonstrates your commitment. Please arrive 5 minutes before class begins. Men arriving after 8:30am will not be permitted in the class.
URL:https://thedoorse.com/event/serious-mens-class-2020-12-07/
LOCATION:The Door Southeast Church\, 1702 GOLIAD RD\, San Antonio\, TX\, 78223\, United States
END:VEVENT
BEGIN:VEVENT
DTSTART;TZID=America/Chicago:20201206T110000
DTEND;TZID=America/Chicago:20201206T123000
DTSTAMP:20260419T131756
CREATED:20171128T165316Z
LAST-MODIFIED:20200517T044122Z
UID:30851-1607252400-1607257800@thedoorse.com
SUMMARY:Worship Services
DESCRIPTION:  \n\nPrayer 6pm to 7pm\nEvening Service 7pm to 8:30pm\n\n 
URL:https://thedoorse.com/event/worship-services-2020-12-06/
LOCATION:The Door Southeast Church\, 1702 GOLIAD RD\, San Antonio\, TX\, 78223\, United States
CATEGORIES:Worship Service
END:VEVENT
BEGIN:VEVENT
DTSTART;TZID=America/Chicago:20201206T083000
DTEND;TZID=America/Chicago:20201206T093000
DTSTAMP:20260419T131756
CREATED:20200118T231054Z
LAST-MODIFIED:20200118T231458Z
UID:31107-1607243400-1607247000@thedoorse.com
SUMMARY:Serious Men's Class
DESCRIPTION:For men only. Punctuality demonstrates your commitment. Please arrive 5 minutes before class begins. Men arriving after 8:30am will not be permitted in the class.
URL:https://thedoorse.com/event/serious-mens-class-2020-12-06/
LOCATION:The Door Southeast Church\, 1702 GOLIAD RD\, San Antonio\, TX\, 78223\, United States
END:VEVENT
BEGIN:VEVENT
DTSTART;TZID=America/Chicago:20201129T110000
DTEND;TZID=America/Chicago:20201129T123000
DTSTAMP:20260419T131756
CREATED:20171128T165316Z
LAST-MODIFIED:20200517T044121Z
UID:30849-1606647600-1606653000@thedoorse.com
SUMMARY:Worship Services
DESCRIPTION:  \n\nPrayer 6pm to 7pm\nEvening Service 7pm to 8:30pm\n\n 
URL:https://thedoorse.com/event/worship-services-2020-11-29/
LOCATION:The Door Southeast Church\, 1702 GOLIAD RD\, San Antonio\, TX\, 78223\, United States
CATEGORIES:Worship Service
END:VEVENT
BEGIN:VEVENT
DTSTART;TZID=America/Chicago:20201129T083000
DTEND;TZID=America/Chicago:20201129T093000
DTSTAMP:20260419T131756
CREATED:20200118T231054Z
LAST-MODIFIED:20200118T231455Z
UID:31105-1606638600-1606642200@thedoorse.com
SUMMARY:Serious Men's Class
DESCRIPTION:For men only. Punctuality demonstrates your commitment. Please arrive 5 minutes before class begins. Men arriving after 8:30am will not be permitted in the class.
URL:https://thedoorse.com/event/serious-mens-class-2020-11-29/
LOCATION:The Door Southeast Church\, 1702 GOLIAD RD\, San Antonio\, TX\, 78223\, United States
END:VEVENT
BEGIN:VEVENT
DTSTART;TZID=America/Chicago:20201122T110000
DTEND;TZID=America/Chicago:20201122T123000
DTSTAMP:20260419T131756
CREATED:20171128T165316Z
LAST-MODIFIED:20200517T044121Z
UID:30847-1606042800-1606048200@thedoorse.com
SUMMARY:Worship Services
DESCRIPTION:  \n\nPrayer 6pm to 7pm\nEvening Service 7pm to 8:30pm\n\n 
URL:https://thedoorse.com/event/worship-services-2020-11-22/
LOCATION:The Door Southeast Church\, 1702 GOLIAD RD\, San Antonio\, TX\, 78223\, United States
CATEGORIES:Worship Service
END:VEVENT
BEGIN:VEVENT
DTSTART;TZID=America/Chicago:20201122T083000
DTEND;TZID=America/Chicago:20201122T093000
DTSTAMP:20260419T131756
CREATED:20200118T231054Z
LAST-MODIFIED:20200118T231454Z
UID:31103-1606033800-1606037400@thedoorse.com
SUMMARY:Serious Men's Class
DESCRIPTION:For men only. Punctuality demonstrates your commitment. Please arrive 5 minutes before class begins. Men arriving after 8:30am will not be permitted in the class.
URL:https://thedoorse.com/event/serious-mens-class-2020-11-22/
LOCATION:The Door Southeast Church\, 1702 GOLIAD RD\, San Antonio\, TX\, 78223\, United States
END:VEVENT
BEGIN:VEVENT
DTSTART;TZID=America/Chicago:20201115T083000
DTEND;TZID=America/Chicago:20201115T093000
DTSTAMP:20260419T131756
CREATED:20200118T231054Z
LAST-MODIFIED:20200118T231453Z
UID:31101-1605429000-1605432600@thedoorse.com
SUMMARY:Serious Men's Class
DESCRIPTION:For men only. Punctuality demonstrates your commitment. Please arrive 5 minutes before class begins. Men arriving after 8:30am will not be permitted in the class.
URL:https://thedoorse.com/event/serious-mens-class-2020-11-15/
LOCATION:The Door Southeast Church\, 1702 GOLIAD RD\, San Antonio\, TX\, 78223\, United States
END:VEVENT
BEGIN:VEVENT
DTSTART;TZID=America/Chicago:20201108T110000
DTEND;TZID=America/Chicago:20201108T123000
DTSTAMP:20260419T131756
CREATED:20171128T165316Z
LAST-MODIFIED:20200517T044119Z
UID:30843-1604833200-1604838600@thedoorse.com
SUMMARY:Worship Services
DESCRIPTION:  \n\nPrayer 6pm to 7pm\nEvening Service 7pm to 8:30pm\n\n 
URL:https://thedoorse.com/event/worship-services-2020-11-08/
LOCATION:The Door Southeast Church\, 1702 GOLIAD RD\, San Antonio\, TX\, 78223\, United States
CATEGORIES:Worship Service
END:VEVENT
BEGIN:VEVENT
DTSTART;TZID=America/Chicago:20201108T083000
DTEND;TZID=America/Chicago:20201108T093000
DTSTAMP:20260419T131756
CREATED:20200118T231054Z
LAST-MODIFIED:20200118T231453Z
UID:31099-1604824200-1604827800@thedoorse.com
SUMMARY:Serious Men's Class
DESCRIPTION:For men only. Punctuality demonstrates your commitment. Please arrive 5 minutes before class begins. Men arriving after 8:30am will not be permitted in the class.
URL:https://thedoorse.com/event/serious-mens-class-2020-11-08/
LOCATION:The Door Southeast Church\, 1702 GOLIAD RD\, San Antonio\, TX\, 78223\, United States
END:VEVENT
BEGIN:VEVENT
DTSTART;TZID=America/Chicago:20201101T110000
DTEND;TZID=America/Chicago:20201101T123000
DTSTAMP:20260419T131756
CREATED:20171128T165316Z
LAST-MODIFIED:20200517T044119Z
UID:30841-1604228400-1604233800@thedoorse.com
SUMMARY:Worship Services
DESCRIPTION:  \n\nPrayer 6pm to 7pm\nEvening Service 7pm to 8:30pm\n\n 
URL:https://thedoorse.com/event/worship-services-2020-11-01/
LOCATION:The Door Southeast Church\, 1702 GOLIAD RD\, San Antonio\, TX\, 78223\, United States
CATEGORIES:Worship Service
END:VEVENT
BEGIN:VEVENT
DTSTART;TZID=America/Chicago:20201101T083000
DTEND;TZID=America/Chicago:20201101T093000
DTSTAMP:20260419T131756
CREATED:20200118T231054Z
LAST-MODIFIED:20200118T231452Z
UID:31097-1604219400-1604223000@thedoorse.com
SUMMARY:Serious Men's Class
DESCRIPTION:For men only. Punctuality demonstrates your commitment. Please arrive 5 minutes before class begins. Men arriving after 8:30am will not be permitted in the class.
URL:https://thedoorse.com/event/serious-mens-class-2020-11-01/
LOCATION:The Door Southeast Church\, 1702 GOLIAD RD\, San Antonio\, TX\, 78223\, United States
END:VEVENT
BEGIN:VEVENT
DTSTART;TZID=America/Chicago:20201025T110000
DTEND;TZID=America/Chicago:20201025T123000
DTSTAMP:20260419T131756
CREATED:20171128T165316Z
LAST-MODIFIED:20200517T044119Z
UID:30839-1603623600-1603629000@thedoorse.com
SUMMARY:Worship Services
DESCRIPTION:  \n\nPrayer 6pm to 7pm\nEvening Service 7pm to 8:30pm\n\n 
URL:https://thedoorse.com/event/worship-services-2020-10-25/
LOCATION:The Door Southeast Church\, 1702 GOLIAD RD\, San Antonio\, TX\, 78223\, United States
CATEGORIES:Worship Service
END:VEVENT
END:VCALENDAR