BEGIN:VCALENDAR
VERSION:2.0
PRODID:-//The Door Southeast San Antonio - ECPv6.15.20//NONSGML v1.0//EN
CALSCALE:GREGORIAN
METHOD:PUBLISH
X-ORIGINAL-URL:https://thedoorse.com
X-WR-CALDESC:Events for The Door Southeast San Antonio
REFRESH-INTERVAL;VALUE=DURATION:PT1H
X-Robots-Tag:noindex
X-PUBLISHED-TTL:PT1H
BEGIN:VTIMEZONE
TZID:America/Chicago
BEGIN:DAYLIGHT
TZOFFSETFROM:-0600
TZOFFSETTO:-0500
TZNAME:CDT
DTSTART:20190310T080000
END:DAYLIGHT
BEGIN:STANDARD
TZOFFSETFROM:-0500
TZOFFSETTO:-0600
TZNAME:CST
DTSTART:20191103T070000
END:STANDARD
BEGIN:DAYLIGHT
TZOFFSETFROM:-0600
TZOFFSETTO:-0500
TZNAME:CDT
DTSTART:20200308T080000
END:DAYLIGHT
BEGIN:STANDARD
TZOFFSETFROM:-0500
TZOFFSETTO:-0600
TZNAME:CST
DTSTART:20201101T070000
END:STANDARD
BEGIN:DAYLIGHT
TZOFFSETFROM:-0600
TZOFFSETTO:-0500
TZNAME:CDT
DTSTART:20210314T080000
END:DAYLIGHT
BEGIN:STANDARD
TZOFFSETFROM:-0500
TZOFFSETTO:-0600
TZNAME:CST
DTSTART:20211107T070000
END:STANDARD
END:VTIMEZONE
BEGIN:VEVENT
DTSTART;TZID=America/Chicago:20201025T083000
DTEND;TZID=America/Chicago:20201025T093000
DTSTAMP:20260419T181721
CREATED:20200118T231054Z
LAST-MODIFIED:20200118T231449Z
UID:31095-1603614600-1603618200@thedoorse.com
SUMMARY:Serious Men's Class
DESCRIPTION:For men only. Punctuality demonstrates your commitment. Please arrive 5 minutes before class begins. Men arriving after 8:30am will not be permitted in the class.
URL:https://thedoorse.com/event/serious-mens-class-2020-10-25/
LOCATION:The Door Southeast Church\, 1702 GOLIAD RD\, San Antonio\, TX\, 78223\, United States
END:VEVENT
BEGIN:VEVENT
DTSTART;TZID=America/Chicago:20201018T110000
DTEND;TZID=America/Chicago:20201018T123000
DTSTAMP:20260419T181721
CREATED:20171128T165316Z
LAST-MODIFIED:20200517T044119Z
UID:30837-1603018800-1603024200@thedoorse.com
SUMMARY:Worship Services
DESCRIPTION:  \n\nPrayer 6pm to 7pm\nEvening Service 7pm to 8:30pm\n\n 
URL:https://thedoorse.com/event/worship-services-2020-10-18/
LOCATION:The Door Southeast Church\, 1702 GOLIAD RD\, San Antonio\, TX\, 78223\, United States
CATEGORIES:Worship Service
END:VEVENT
BEGIN:VEVENT
DTSTART;TZID=America/Chicago:20201018T083000
DTEND;TZID=America/Chicago:20201018T093000
DTSTAMP:20260419T181721
CREATED:20200118T231054Z
LAST-MODIFIED:20200118T231448Z
UID:31093-1603009800-1603013400@thedoorse.com
SUMMARY:Serious Men's Class
DESCRIPTION:For men only. Punctuality demonstrates your commitment. Please arrive 5 minutes before class begins. Men arriving after 8:30am will not be permitted in the class.
URL:https://thedoorse.com/event/serious-mens-class-2020-10-18/
LOCATION:The Door Southeast Church\, 1702 GOLIAD RD\, San Antonio\, TX\, 78223\, United States
END:VEVENT
BEGIN:VEVENT
DTSTART;TZID=America/Chicago:20201011T110000
DTEND;TZID=America/Chicago:20201011T123000
DTSTAMP:20260419T181721
CREATED:20171128T165316Z
LAST-MODIFIED:20200517T044118Z
UID:30835-1602414000-1602419400@thedoorse.com
SUMMARY:Worship Services
DESCRIPTION:  \n\nPrayer 6pm to 7pm\nEvening Service 7pm to 8:30pm\n\n 
URL:https://thedoorse.com/event/worship-services-2020-10-11/
LOCATION:The Door Southeast Church\, 1702 GOLIAD RD\, San Antonio\, TX\, 78223\, United States
CATEGORIES:Worship Service
END:VEVENT
BEGIN:VEVENT
DTSTART;TZID=America/Chicago:20201011T083000
DTEND;TZID=America/Chicago:20201011T093000
DTSTAMP:20260419T181721
CREATED:20200118T231054Z
LAST-MODIFIED:20200118T231447Z
UID:31091-1602405000-1602408600@thedoorse.com
SUMMARY:Serious Men's Class
DESCRIPTION:For men only. Punctuality demonstrates your commitment. Please arrive 5 minutes before class begins. Men arriving after 8:30am will not be permitted in the class.
URL:https://thedoorse.com/event/serious-mens-class-2020-10-11/
LOCATION:The Door Southeast Church\, 1702 GOLIAD RD\, San Antonio\, TX\, 78223\, United States
END:VEVENT
BEGIN:VEVENT
DTSTART;TZID=America/Chicago:20201004T110000
DTEND;TZID=America/Chicago:20201004T123000
DTSTAMP:20260419T181721
CREATED:20171128T165316Z
LAST-MODIFIED:20200517T044118Z
UID:30833-1601809200-1601814600@thedoorse.com
SUMMARY:Worship Services
DESCRIPTION:  \n\nPrayer 6pm to 7pm\nEvening Service 7pm to 8:30pm\n\n 
URL:https://thedoorse.com/event/worship-services-2020-10-04/
LOCATION:The Door Southeast Church\, 1702 GOLIAD RD\, San Antonio\, TX\, 78223\, United States
CATEGORIES:Worship Service
END:VEVENT
BEGIN:VEVENT
DTSTART;TZID=America/Chicago:20201004T083000
DTEND;TZID=America/Chicago:20201004T093000
DTSTAMP:20260419T181721
CREATED:20200118T231054Z
LAST-MODIFIED:20200118T231446Z
UID:31089-1601800200-1601803800@thedoorse.com
SUMMARY:Serious Men's Class
DESCRIPTION:For men only. Punctuality demonstrates your commitment. Please arrive 5 minutes before class begins. Men arriving after 8:30am will not be permitted in the class.
URL:https://thedoorse.com/event/serious-mens-class-2020-10-04/
LOCATION:The Door Southeast Church\, 1702 GOLIAD RD\, San Antonio\, TX\, 78223\, United States
END:VEVENT
BEGIN:VEVENT
DTSTART;TZID=America/Chicago:20200927T110000
DTEND;TZID=America/Chicago:20200927T123000
DTSTAMP:20260419T181721
CREATED:20171128T165316Z
LAST-MODIFIED:20200517T044118Z
UID:30831-1601204400-1601209800@thedoorse.com
SUMMARY:Worship Services
DESCRIPTION:  \n\nPrayer 6pm to 7pm\nEvening Service 7pm to 8:30pm\n\n 
URL:https://thedoorse.com/event/worship-services-2020-09-27/
LOCATION:The Door Southeast Church\, 1702 GOLIAD RD\, San Antonio\, TX\, 78223\, United States
CATEGORIES:Worship Service
END:VEVENT
BEGIN:VEVENT
DTSTART;TZID=America/Chicago:20200927T083000
DTEND;TZID=America/Chicago:20200927T093000
DTSTAMP:20260419T181721
CREATED:20200118T231054Z
LAST-MODIFIED:20200118T231446Z
UID:31087-1601195400-1601199000@thedoorse.com
SUMMARY:Serious Men's Class
DESCRIPTION:For men only. Punctuality demonstrates your commitment. Please arrive 5 minutes before class begins. Men arriving after 8:30am will not be permitted in the class.
URL:https://thedoorse.com/event/serious-mens-class-2020-09-27/
LOCATION:The Door Southeast Church\, 1702 GOLIAD RD\, San Antonio\, TX\, 78223\, United States
END:VEVENT
BEGIN:VEVENT
DTSTART;TZID=America/Chicago:20200925T200000
DTEND;TZID=America/Chicago:20200925T213000
DTSTAMP:20260419T181721
CREATED:20200314T010825Z
LAST-MODIFIED:20200314T010825Z
UID:32234-1601064000-1601069400@thedoorse.com
SUMMARY:Concert
DESCRIPTION:
URL:https://thedoorse.com/event/concert-2020-09-25/
LOCATION:The Door Southeast Church\, 1702 GOLIAD RD\, San Antonio\, TX\, 78223\, United States
END:VEVENT
BEGIN:VEVENT
DTSTART;TZID=America/Chicago:20200921T083000
DTEND;TZID=America/Chicago:20200921T093000
DTSTAMP:20260419T181721
CREATED:20200118T231054Z
LAST-MODIFIED:20200118T231445Z
UID:31086-1600677000-1600680600@thedoorse.com
SUMMARY:Serious Men's Class
DESCRIPTION:For men only. Punctuality demonstrates your commitment. Please arrive 5 minutes before class begins. Men arriving after 8:30am will not be permitted in the class.
URL:https://thedoorse.com/event/serious-mens-class-2020-09-21/
LOCATION:The Door Southeast Church\, 1702 GOLIAD RD\, San Antonio\, TX\, 78223\, United States
END:VEVENT
BEGIN:VEVENT
DTSTART;TZID=America/Chicago:20200920T110000
DTEND;TZID=America/Chicago:20200920T123000
DTSTAMP:20260419T181721
CREATED:20171128T165316Z
LAST-MODIFIED:20200517T044118Z
UID:30829-1600599600-1600605000@thedoorse.com
SUMMARY:Worship Services
DESCRIPTION:  \n\nPrayer 6pm to 7pm\nEvening Service 7pm to 8:30pm\n\n 
URL:https://thedoorse.com/event/worship-services-2020-09-20/
LOCATION:The Door Southeast Church\, 1702 GOLIAD RD\, San Antonio\, TX\, 78223\, United States
CATEGORIES:Worship Service
END:VEVENT
BEGIN:VEVENT
DTSTART;TZID=America/Chicago:20200920T083000
DTEND;TZID=America/Chicago:20200920T093000
DTSTAMP:20260419T181721
CREATED:20200118T231054Z
LAST-MODIFIED:20200118T231443Z
UID:31085-1600590600-1600594200@thedoorse.com
SUMMARY:Serious Men's Class
DESCRIPTION:For men only. Punctuality demonstrates your commitment. Please arrive 5 minutes before class begins. Men arriving after 8:30am will not be permitted in the class.
URL:https://thedoorse.com/event/serious-mens-class-2020-09-20/
LOCATION:The Door Southeast Church\, 1702 GOLIAD RD\, San Antonio\, TX\, 78223\, United States
END:VEVENT
BEGIN:VEVENT
DTSTART;TZID=America/Chicago:20200918T200000
DTEND;TZID=America/Chicago:20200918T213000
DTSTAMP:20260419T181721
CREATED:20200314T010825Z
LAST-MODIFIED:20200314T010825Z
UID:32233-1600459200-1600464600@thedoorse.com
SUMMARY:Concert
DESCRIPTION:
URL:https://thedoorse.com/event/concert-2020-09-18/
LOCATION:The Door Southeast Church\, 1702 GOLIAD RD\, San Antonio\, TX\, 78223\, United States
END:VEVENT
BEGIN:VEVENT
DTSTART;TZID=America/Chicago:20200913T110000
DTEND;TZID=America/Chicago:20200913T123000
DTSTAMP:20260419T181721
CREATED:20171128T165316Z
LAST-MODIFIED:20200517T044117Z
UID:30827-1599994800-1600000200@thedoorse.com
SUMMARY:Worship Services
DESCRIPTION:  \n\nPrayer 6pm to 7pm\nEvening Service 7pm to 8:30pm\n\n 
URL:https://thedoorse.com/event/worship-services-2020-09-13/
LOCATION:The Door Southeast Church\, 1702 GOLIAD RD\, San Antonio\, TX\, 78223\, United States
CATEGORIES:Worship Service
END:VEVENT
BEGIN:VEVENT
DTSTART;TZID=America/Chicago:20200913T083000
DTEND;TZID=America/Chicago:20200913T093000
DTSTAMP:20260419T181721
CREATED:20200118T231054Z
LAST-MODIFIED:20200118T231442Z
UID:31083-1599985800-1599989400@thedoorse.com
SUMMARY:Serious Men's Class
DESCRIPTION:For men only. Punctuality demonstrates your commitment. Please arrive 5 minutes before class begins. Men arriving after 8:30am will not be permitted in the class.
URL:https://thedoorse.com/event/serious-mens-class-2020-09-13/
LOCATION:The Door Southeast Church\, 1702 GOLIAD RD\, San Antonio\, TX\, 78223\, United States
END:VEVENT
BEGIN:VEVENT
DTSTART;TZID=America/Chicago:20200911T200000
DTEND;TZID=America/Chicago:20200911T213000
DTSTAMP:20260419T181721
CREATED:20200314T010825Z
LAST-MODIFIED:20200314T010825Z
UID:32232-1599854400-1599859800@thedoorse.com
SUMMARY:Concert
DESCRIPTION:
URL:https://thedoorse.com/event/concert-2020-09-11/
LOCATION:The Door Southeast Church\, 1702 GOLIAD RD\, San Antonio\, TX\, 78223\, United States
END:VEVENT
BEGIN:VEVENT
DTSTART;TZID=America/Chicago:20200906T110000
DTEND;TZID=America/Chicago:20200906T123000
DTSTAMP:20260419T181721
CREATED:20171128T165316Z
LAST-MODIFIED:20200517T044116Z
UID:30825-1599390000-1599395400@thedoorse.com
SUMMARY:Worship Services
DESCRIPTION:  \n\nPrayer 6pm to 7pm\nEvening Service 7pm to 8:30pm\n\n 
URL:https://thedoorse.com/event/worship-services-2020-09-06/
LOCATION:The Door Southeast Church\, 1702 GOLIAD RD\, San Antonio\, TX\, 78223\, United States
CATEGORIES:Worship Service
END:VEVENT
BEGIN:VEVENT
DTSTART;TZID=America/Chicago:20200906T083000
DTEND;TZID=America/Chicago:20200906T093000
DTSTAMP:20260419T181721
CREATED:20200118T231054Z
LAST-MODIFIED:20200118T231441Z
UID:31081-1599381000-1599384600@thedoorse.com
SUMMARY:Serious Men's Class
DESCRIPTION:For men only. Punctuality demonstrates your commitment. Please arrive 5 minutes before class begins. Men arriving after 8:30am will not be permitted in the class.
URL:https://thedoorse.com/event/serious-mens-class-2020-09-06/
LOCATION:The Door Southeast Church\, 1702 GOLIAD RD\, San Antonio\, TX\, 78223\, United States
END:VEVENT
BEGIN:VEVENT
DTSTART;TZID=America/Chicago:20200904T200000
DTEND;TZID=America/Chicago:20200904T213000
DTSTAMP:20260419T181721
CREATED:20200314T010825Z
LAST-MODIFIED:20200314T010825Z
UID:32231-1599249600-1599255000@thedoorse.com
SUMMARY:Concert
DESCRIPTION:
URL:https://thedoorse.com/event/concert-2020-09-04/
LOCATION:The Door Southeast Church\, 1702 GOLIAD RD\, San Antonio\, TX\, 78223\, United States
END:VEVENT
BEGIN:VEVENT
DTSTART;TZID=America/Chicago:20200830T110000
DTEND;TZID=America/Chicago:20200830T123000
DTSTAMP:20260419T181721
CREATED:20171128T165316Z
LAST-MODIFIED:20200517T044115Z
UID:30823-1598785200-1598790600@thedoorse.com
SUMMARY:Worship Services
DESCRIPTION:  \n\nPrayer 6pm to 7pm\nEvening Service 7pm to 8:30pm\n\n 
URL:https://thedoorse.com/event/worship-services-2020-08-30/
LOCATION:The Door Southeast Church\, 1702 GOLIAD RD\, San Antonio\, TX\, 78223\, United States
CATEGORIES:Worship Service
END:VEVENT
BEGIN:VEVENT
DTSTART;TZID=America/Chicago:20200830T083000
DTEND;TZID=America/Chicago:20200830T093000
DTSTAMP:20260419T181721
CREATED:20200118T231054Z
LAST-MODIFIED:20200118T231441Z
UID:31079-1598776200-1598779800@thedoorse.com
SUMMARY:Serious Men's Class
DESCRIPTION:For men only. Punctuality demonstrates your commitment. Please arrive 5 minutes before class begins. Men arriving after 8:30am will not be permitted in the class.
URL:https://thedoorse.com/event/serious-mens-class-2020-08-30/
LOCATION:The Door Southeast Church\, 1702 GOLIAD RD\, San Antonio\, TX\, 78223\, United States
END:VEVENT
BEGIN:VEVENT
DTSTART;TZID=America/Chicago:20200828T200000
DTEND;TZID=America/Chicago:20200828T213000
DTSTAMP:20260419T181721
CREATED:20200314T010825Z
LAST-MODIFIED:20200314T010825Z
UID:32230-1598644800-1598650200@thedoorse.com
SUMMARY:Concert
DESCRIPTION:
URL:https://thedoorse.com/event/concert-2020-08-28/
LOCATION:The Door Southeast Church\, 1702 GOLIAD RD\, San Antonio\, TX\, 78223\, United States
END:VEVENT
BEGIN:VEVENT
DTSTART;TZID=America/Chicago:20200823T110000
DTEND;TZID=America/Chicago:20200823T123000
DTSTAMP:20260419T181721
CREATED:20171128T165316Z
LAST-MODIFIED:20200517T044115Z
UID:30821-1598180400-1598185800@thedoorse.com
SUMMARY:Worship Services
DESCRIPTION:  \n\nPrayer 6pm to 7pm\nEvening Service 7pm to 8:30pm\n\n 
URL:https://thedoorse.com/event/worship-services-2020-08-23/
LOCATION:The Door Southeast Church\, 1702 GOLIAD RD\, San Antonio\, TX\, 78223\, United States
CATEGORIES:Worship Service
END:VEVENT
BEGIN:VEVENT
DTSTART;TZID=America/Chicago:20200823T083000
DTEND;TZID=America/Chicago:20200823T093000
DTSTAMP:20260419T181721
CREATED:20200118T231054Z
LAST-MODIFIED:20200118T231440Z
UID:31077-1598171400-1598175000@thedoorse.com
SUMMARY:Serious Men's Class
DESCRIPTION:For men only. Punctuality demonstrates your commitment. Please arrive 5 minutes before class begins. Men arriving after 8:30am will not be permitted in the class.
URL:https://thedoorse.com/event/serious-mens-class-2020-08-23/
LOCATION:The Door Southeast Church\, 1702 GOLIAD RD\, San Antonio\, TX\, 78223\, United States
END:VEVENT
BEGIN:VEVENT
DTSTART;TZID=America/Chicago:20200821T200000
DTEND;TZID=America/Chicago:20200821T213000
DTSTAMP:20260419T181721
CREATED:20200314T010825Z
LAST-MODIFIED:20200314T010825Z
UID:32229-1598040000-1598045400@thedoorse.com
SUMMARY:Concert
DESCRIPTION:
URL:https://thedoorse.com/event/concert-2020-08-21/
LOCATION:The Door Southeast Church\, 1702 GOLIAD RD\, San Antonio\, TX\, 78223\, United States
END:VEVENT
BEGIN:VEVENT
DTSTART;TZID=America/Chicago:20200816T110000
DTEND;TZID=America/Chicago:20200816T123000
DTSTAMP:20260419T181721
CREATED:20171128T165316Z
LAST-MODIFIED:20200517T044115Z
UID:30819-1597575600-1597581000@thedoorse.com
SUMMARY:Worship Services
DESCRIPTION:  \n\nPrayer 6pm to 7pm\nEvening Service 7pm to 8:30pm\n\n 
URL:https://thedoorse.com/event/worship-services-2020-08-16/
LOCATION:The Door Southeast Church\, 1702 GOLIAD RD\, San Antonio\, TX\, 78223\, United States
CATEGORIES:Worship Service
END:VEVENT
BEGIN:VEVENT
DTSTART;TZID=America/Chicago:20200816T083000
DTEND;TZID=America/Chicago:20200816T093000
DTSTAMP:20260419T181721
CREATED:20200118T231054Z
LAST-MODIFIED:20200118T231437Z
UID:31075-1597566600-1597570200@thedoorse.com
SUMMARY:Serious Men's Class
DESCRIPTION:For men only. Punctuality demonstrates your commitment. Please arrive 5 minutes before class begins. Men arriving after 8:30am will not be permitted in the class.
URL:https://thedoorse.com/event/serious-mens-class-2020-08-16/
LOCATION:The Door Southeast Church\, 1702 GOLIAD RD\, San Antonio\, TX\, 78223\, United States
END:VEVENT
BEGIN:VEVENT
DTSTART;TZID=America/Chicago:20200814T200000
DTEND;TZID=America/Chicago:20200814T213000
DTSTAMP:20260419T181721
CREATED:20200314T010825Z
LAST-MODIFIED:20200314T010825Z
UID:32228-1597435200-1597440600@thedoorse.com
SUMMARY:Concert
DESCRIPTION:
URL:https://thedoorse.com/event/concert-2020-08-14/
LOCATION:The Door Southeast Church\, 1702 GOLIAD RD\, San Antonio\, TX\, 78223\, United States
END:VEVENT
BEGIN:VEVENT
DTSTART;TZID=America/Chicago:20200809T110000
DTEND;TZID=America/Chicago:20200809T123000
DTSTAMP:20260419T181721
CREATED:20171128T165316Z
LAST-MODIFIED:20200517T044115Z
UID:30817-1596970800-1596976200@thedoorse.com
SUMMARY:Worship Services
DESCRIPTION:  \n\nPrayer 6pm to 7pm\nEvening Service 7pm to 8:30pm\n\n 
URL:https://thedoorse.com/event/worship-services-2020-08-09/
LOCATION:The Door Southeast Church\, 1702 GOLIAD RD\, San Antonio\, TX\, 78223\, United States
CATEGORIES:Worship Service
END:VEVENT
END:VCALENDAR