BEGIN:VCALENDAR
VERSION:2.0
PRODID:-//The Door Southeast San Antonio - ECPv6.15.20//NONSGML v1.0//EN
CALSCALE:GREGORIAN
METHOD:PUBLISH
X-ORIGINAL-URL:https://thedoorse.com
X-WR-CALDESC:Events for The Door Southeast San Antonio
REFRESH-INTERVAL;VALUE=DURATION:PT1H
X-Robots-Tag:noindex
X-PUBLISHED-TTL:PT1H
BEGIN:VTIMEZONE
TZID:America/Chicago
BEGIN:DAYLIGHT
TZOFFSETFROM:-0600
TZOFFSETTO:-0500
TZNAME:CDT
DTSTART:20190310T080000
END:DAYLIGHT
BEGIN:STANDARD
TZOFFSETFROM:-0500
TZOFFSETTO:-0600
TZNAME:CST
DTSTART:20191103T070000
END:STANDARD
BEGIN:DAYLIGHT
TZOFFSETFROM:-0600
TZOFFSETTO:-0500
TZNAME:CDT
DTSTART:20200308T080000
END:DAYLIGHT
BEGIN:STANDARD
TZOFFSETFROM:-0500
TZOFFSETTO:-0600
TZNAME:CST
DTSTART:20201101T070000
END:STANDARD
BEGIN:DAYLIGHT
TZOFFSETFROM:-0600
TZOFFSETTO:-0500
TZNAME:CDT
DTSTART:20210314T080000
END:DAYLIGHT
BEGIN:STANDARD
TZOFFSETFROM:-0500
TZOFFSETTO:-0600
TZNAME:CST
DTSTART:20211107T070000
END:STANDARD
END:VTIMEZONE
BEGIN:VEVENT
DTSTART;TZID=America/Chicago:20200830T110000
DTEND;TZID=America/Chicago:20200830T123000
DTSTAMP:20260419T211340
CREATED:20171128T165316Z
LAST-MODIFIED:20200517T044115Z
UID:30823-1598785200-1598790600@thedoorse.com
SUMMARY:Worship Services
DESCRIPTION:  \n\nPrayer 6pm to 7pm\nEvening Service 7pm to 8:30pm\n\n 
URL:https://thedoorse.com/event/worship-services-2020-08-30/
LOCATION:The Door Southeast Church\, 1702 GOLIAD RD\, San Antonio\, TX\, 78223\, United States
CATEGORIES:Worship Service
END:VEVENT
BEGIN:VEVENT
DTSTART;TZID=America/Chicago:20200830T083000
DTEND;TZID=America/Chicago:20200830T093000
DTSTAMP:20260419T211340
CREATED:20200118T231054Z
LAST-MODIFIED:20200118T231441Z
UID:31079-1598776200-1598779800@thedoorse.com
SUMMARY:Serious Men's Class
DESCRIPTION:For men only. Punctuality demonstrates your commitment. Please arrive 5 minutes before class begins. Men arriving after 8:30am will not be permitted in the class.
URL:https://thedoorse.com/event/serious-mens-class-2020-08-30/
LOCATION:The Door Southeast Church\, 1702 GOLIAD RD\, San Antonio\, TX\, 78223\, United States
END:VEVENT
BEGIN:VEVENT
DTSTART;TZID=America/Chicago:20200828T200000
DTEND;TZID=America/Chicago:20200828T213000
DTSTAMP:20260419T211340
CREATED:20200314T010825Z
LAST-MODIFIED:20200314T010825Z
UID:32230-1598644800-1598650200@thedoorse.com
SUMMARY:Concert
DESCRIPTION:
URL:https://thedoorse.com/event/concert-2020-08-28/
LOCATION:The Door Southeast Church\, 1702 GOLIAD RD\, San Antonio\, TX\, 78223\, United States
END:VEVENT
BEGIN:VEVENT
DTSTART;TZID=America/Chicago:20200823T110000
DTEND;TZID=America/Chicago:20200823T123000
DTSTAMP:20260419T211340
CREATED:20171128T165316Z
LAST-MODIFIED:20200517T044115Z
UID:30821-1598180400-1598185800@thedoorse.com
SUMMARY:Worship Services
DESCRIPTION:  \n\nPrayer 6pm to 7pm\nEvening Service 7pm to 8:30pm\n\n 
URL:https://thedoorse.com/event/worship-services-2020-08-23/
LOCATION:The Door Southeast Church\, 1702 GOLIAD RD\, San Antonio\, TX\, 78223\, United States
CATEGORIES:Worship Service
END:VEVENT
BEGIN:VEVENT
DTSTART;TZID=America/Chicago:20200823T083000
DTEND;TZID=America/Chicago:20200823T093000
DTSTAMP:20260419T211340
CREATED:20200118T231054Z
LAST-MODIFIED:20200118T231440Z
UID:31077-1598171400-1598175000@thedoorse.com
SUMMARY:Serious Men's Class
DESCRIPTION:For men only. Punctuality demonstrates your commitment. Please arrive 5 minutes before class begins. Men arriving after 8:30am will not be permitted in the class.
URL:https://thedoorse.com/event/serious-mens-class-2020-08-23/
LOCATION:The Door Southeast Church\, 1702 GOLIAD RD\, San Antonio\, TX\, 78223\, United States
END:VEVENT
BEGIN:VEVENT
DTSTART;TZID=America/Chicago:20200821T200000
DTEND;TZID=America/Chicago:20200821T213000
DTSTAMP:20260419T211340
CREATED:20200314T010825Z
LAST-MODIFIED:20200314T010825Z
UID:32229-1598040000-1598045400@thedoorse.com
SUMMARY:Concert
DESCRIPTION:
URL:https://thedoorse.com/event/concert-2020-08-21/
LOCATION:The Door Southeast Church\, 1702 GOLIAD RD\, San Antonio\, TX\, 78223\, United States
END:VEVENT
BEGIN:VEVENT
DTSTART;TZID=America/Chicago:20200816T110000
DTEND;TZID=America/Chicago:20200816T123000
DTSTAMP:20260419T211340
CREATED:20171128T165316Z
LAST-MODIFIED:20200517T044115Z
UID:30819-1597575600-1597581000@thedoorse.com
SUMMARY:Worship Services
DESCRIPTION:  \n\nPrayer 6pm to 7pm\nEvening Service 7pm to 8:30pm\n\n 
URL:https://thedoorse.com/event/worship-services-2020-08-16/
LOCATION:The Door Southeast Church\, 1702 GOLIAD RD\, San Antonio\, TX\, 78223\, United States
CATEGORIES:Worship Service
END:VEVENT
BEGIN:VEVENT
DTSTART;TZID=America/Chicago:20200816T083000
DTEND;TZID=America/Chicago:20200816T093000
DTSTAMP:20260419T211340
CREATED:20200118T231054Z
LAST-MODIFIED:20200118T231437Z
UID:31075-1597566600-1597570200@thedoorse.com
SUMMARY:Serious Men's Class
DESCRIPTION:For men only. Punctuality demonstrates your commitment. Please arrive 5 minutes before class begins. Men arriving after 8:30am will not be permitted in the class.
URL:https://thedoorse.com/event/serious-mens-class-2020-08-16/
LOCATION:The Door Southeast Church\, 1702 GOLIAD RD\, San Antonio\, TX\, 78223\, United States
END:VEVENT
BEGIN:VEVENT
DTSTART;TZID=America/Chicago:20200814T200000
DTEND;TZID=America/Chicago:20200814T213000
DTSTAMP:20260419T211340
CREATED:20200314T010825Z
LAST-MODIFIED:20200314T010825Z
UID:32228-1597435200-1597440600@thedoorse.com
SUMMARY:Concert
DESCRIPTION:
URL:https://thedoorse.com/event/concert-2020-08-14/
LOCATION:The Door Southeast Church\, 1702 GOLIAD RD\, San Antonio\, TX\, 78223\, United States
END:VEVENT
BEGIN:VEVENT
DTSTART;TZID=America/Chicago:20200809T110000
DTEND;TZID=America/Chicago:20200809T123000
DTSTAMP:20260419T211340
CREATED:20171128T165316Z
LAST-MODIFIED:20200517T044115Z
UID:30817-1596970800-1596976200@thedoorse.com
SUMMARY:Worship Services
DESCRIPTION:  \n\nPrayer 6pm to 7pm\nEvening Service 7pm to 8:30pm\n\n 
URL:https://thedoorse.com/event/worship-services-2020-08-09/
LOCATION:The Door Southeast Church\, 1702 GOLIAD RD\, San Antonio\, TX\, 78223\, United States
CATEGORIES:Worship Service
END:VEVENT
BEGIN:VEVENT
DTSTART;TZID=America/Chicago:20200809T083000
DTEND;TZID=America/Chicago:20200809T093000
DTSTAMP:20260419T211340
CREATED:20200118T231054Z
LAST-MODIFIED:20200118T231436Z
UID:31073-1596961800-1596965400@thedoorse.com
SUMMARY:Serious Men's Class
DESCRIPTION:For men only. Punctuality demonstrates your commitment. Please arrive 5 minutes before class begins. Men arriving after 8:30am will not be permitted in the class.
URL:https://thedoorse.com/event/serious-mens-class-2020-08-09/
LOCATION:The Door Southeast Church\, 1702 GOLIAD RD\, San Antonio\, TX\, 78223\, United States
END:VEVENT
BEGIN:VEVENT
DTSTART;TZID=America/Chicago:20200807T200000
DTEND;TZID=America/Chicago:20200807T213000
DTSTAMP:20260419T211340
CREATED:20200314T010825Z
LAST-MODIFIED:20200314T010825Z
UID:32227-1596830400-1596835800@thedoorse.com
SUMMARY:Concert
DESCRIPTION:
URL:https://thedoorse.com/event/concert-2020-08-07/
LOCATION:The Door Southeast Church\, 1702 GOLIAD RD\, San Antonio\, TX\, 78223\, United States
END:VEVENT
BEGIN:VEVENT
DTSTART;TZID=America/Chicago:20200802T110000
DTEND;TZID=America/Chicago:20200802T123000
DTSTAMP:20260419T211340
CREATED:20171128T165316Z
LAST-MODIFIED:20200517T044115Z
UID:30815-1596366000-1596371400@thedoorse.com
SUMMARY:Worship Services
DESCRIPTION:  \n\nPrayer 6pm to 7pm\nEvening Service 7pm to 8:30pm\n\n 
URL:https://thedoorse.com/event/worship-services-2020-08-02/
LOCATION:The Door Southeast Church\, 1702 GOLIAD RD\, San Antonio\, TX\, 78223\, United States
CATEGORIES:Worship Service
END:VEVENT
BEGIN:VEVENT
DTSTART;TZID=America/Chicago:20200802T083000
DTEND;TZID=America/Chicago:20200802T093000
DTSTAMP:20260419T211340
CREATED:20200118T231054Z
LAST-MODIFIED:20200118T231435Z
UID:31071-1596357000-1596360600@thedoorse.com
SUMMARY:Serious Men's Class
DESCRIPTION:For men only. Punctuality demonstrates your commitment. Please arrive 5 minutes before class begins. Men arriving after 8:30am will not be permitted in the class.
URL:https://thedoorse.com/event/serious-mens-class-2020-08-02/
LOCATION:The Door Southeast Church\, 1702 GOLIAD RD\, San Antonio\, TX\, 78223\, United States
END:VEVENT
BEGIN:VEVENT
DTSTART;TZID=America/Chicago:20200731T200000
DTEND;TZID=America/Chicago:20200731T213000
DTSTAMP:20260419T211340
CREATED:20200314T010825Z
LAST-MODIFIED:20200314T010825Z
UID:32226-1596225600-1596231000@thedoorse.com
SUMMARY:Concert
DESCRIPTION:
URL:https://thedoorse.com/event/concert-2020-07-31/
LOCATION:The Door Southeast Church\, 1702 GOLIAD RD\, San Antonio\, TX\, 78223\, United States
END:VEVENT
BEGIN:VEVENT
DTSTART;TZID=America/Chicago:20200726T110000
DTEND;TZID=America/Chicago:20200726T123000
DTSTAMP:20260419T211340
CREATED:20171128T165316Z
LAST-MODIFIED:20200517T044114Z
UID:30813-1595761200-1595766600@thedoorse.com
SUMMARY:Worship Services
DESCRIPTION:  \n\nPrayer 6pm to 7pm\nEvening Service 7pm to 8:30pm\n\n 
URL:https://thedoorse.com/event/worship-services-2020-07-26/
LOCATION:The Door Southeast Church\, 1702 GOLIAD RD\, San Antonio\, TX\, 78223\, United States
CATEGORIES:Worship Service
END:VEVENT
BEGIN:VEVENT
DTSTART;TZID=America/Chicago:20200726T083000
DTEND;TZID=America/Chicago:20200726T093000
DTSTAMP:20260419T211340
CREATED:20200118T231054Z
LAST-MODIFIED:20200118T231434Z
UID:31069-1595752200-1595755800@thedoorse.com
SUMMARY:Serious Men's Class
DESCRIPTION:For men only. Punctuality demonstrates your commitment. Please arrive 5 minutes before class begins. Men arriving after 8:30am will not be permitted in the class.
URL:https://thedoorse.com/event/serious-mens-class-2020-07-26/
LOCATION:The Door Southeast Church\, 1702 GOLIAD RD\, San Antonio\, TX\, 78223\, United States
END:VEVENT
BEGIN:VEVENT
DTSTART;TZID=America/Chicago:20200724T200000
DTEND;TZID=America/Chicago:20200724T213000
DTSTAMP:20260419T211340
CREATED:20200314T010825Z
LAST-MODIFIED:20200314T010825Z
UID:32225-1595620800-1595626200@thedoorse.com
SUMMARY:Concert
DESCRIPTION:
URL:https://thedoorse.com/event/concert-2020-07-24/
LOCATION:The Door Southeast Church\, 1702 GOLIAD RD\, San Antonio\, TX\, 78223\, United States
END:VEVENT
BEGIN:VEVENT
DTSTART;TZID=America/Chicago:20200719T110000
DTEND;TZID=America/Chicago:20200719T123000
DTSTAMP:20260419T211340
CREATED:20171128T165316Z
LAST-MODIFIED:20200517T044114Z
UID:30811-1595156400-1595161800@thedoorse.com
SUMMARY:Worship Services
DESCRIPTION:  \n\nPrayer 6pm to 7pm\nEvening Service 7pm to 8:30pm\n\n 
URL:https://thedoorse.com/event/worship-services-2020-07-19/
LOCATION:The Door Southeast Church\, 1702 GOLIAD RD\, San Antonio\, TX\, 78223\, United States
CATEGORIES:Worship Service
END:VEVENT
BEGIN:VEVENT
DTSTART;TZID=America/Chicago:20200719T083000
DTEND;TZID=America/Chicago:20200719T093000
DTSTAMP:20260419T211340
CREATED:20200118T231054Z
LAST-MODIFIED:20200118T231434Z
UID:31067-1595147400-1595151000@thedoorse.com
SUMMARY:Serious Men's Class
DESCRIPTION:For men only. Punctuality demonstrates your commitment. Please arrive 5 minutes before class begins. Men arriving after 8:30am will not be permitted in the class.
URL:https://thedoorse.com/event/serious-mens-class-2020-07-19/
LOCATION:The Door Southeast Church\, 1702 GOLIAD RD\, San Antonio\, TX\, 78223\, United States
END:VEVENT
BEGIN:VEVENT
DTSTART;TZID=America/Chicago:20200717T200000
DTEND;TZID=America/Chicago:20200717T213000
DTSTAMP:20260419T211340
CREATED:20200314T010825Z
LAST-MODIFIED:20200314T010825Z
UID:32224-1595016000-1595021400@thedoorse.com
SUMMARY:Concert
DESCRIPTION:
URL:https://thedoorse.com/event/concert-2020-07-17/
LOCATION:The Door Southeast Church\, 1702 GOLIAD RD\, San Antonio\, TX\, 78223\, United States
END:VEVENT
BEGIN:VEVENT
DTSTART;TZID=America/Chicago:20200712T110000
DTEND;TZID=America/Chicago:20200712T123000
DTSTAMP:20260419T211340
CREATED:20171128T165316Z
LAST-MODIFIED:20200517T044114Z
UID:30809-1594551600-1594557000@thedoorse.com
SUMMARY:Worship Services
DESCRIPTION:  \n\nPrayer 6pm to 7pm\nEvening Service 7pm to 8:30pm\n\n 
URL:https://thedoorse.com/event/worship-services-2020-07-12/
LOCATION:The Door Southeast Church\, 1702 GOLIAD RD\, San Antonio\, TX\, 78223\, United States
CATEGORIES:Worship Service
END:VEVENT
BEGIN:VEVENT
DTSTART;TZID=America/Chicago:20200712T083000
DTEND;TZID=America/Chicago:20200712T093000
DTSTAMP:20260419T211340
CREATED:20200118T231054Z
LAST-MODIFIED:20200118T231431Z
UID:31065-1594542600-1594546200@thedoorse.com
SUMMARY:Serious Men's Class
DESCRIPTION:For men only. Punctuality demonstrates your commitment. Please arrive 5 minutes before class begins. Men arriving after 8:30am will not be permitted in the class.
URL:https://thedoorse.com/event/serious-mens-class-2020-07-12/
LOCATION:The Door Southeast Church\, 1702 GOLIAD RD\, San Antonio\, TX\, 78223\, United States
END:VEVENT
BEGIN:VEVENT
DTSTART;TZID=America/Chicago:20200710T200000
DTEND;TZID=America/Chicago:20200710T213000
DTSTAMP:20260419T211340
CREATED:20200314T010825Z
LAST-MODIFIED:20200314T010825Z
UID:32223-1594411200-1594416600@thedoorse.com
SUMMARY:Concert
DESCRIPTION:
URL:https://thedoorse.com/event/concert-2020-07-10/
LOCATION:The Door Southeast Church\, 1702 GOLIAD RD\, San Antonio\, TX\, 78223\, United States
END:VEVENT
BEGIN:VEVENT
DTSTART;TZID=America/Chicago:20200705T110000
DTEND;TZID=America/Chicago:20200705T123000
DTSTAMP:20260419T211340
CREATED:20171128T165316Z
LAST-MODIFIED:20200517T044113Z
UID:30807-1593946800-1593952200@thedoorse.com
SUMMARY:Worship Services
DESCRIPTION:  \n\nPrayer 6pm to 7pm\nEvening Service 7pm to 8:30pm\n\n 
URL:https://thedoorse.com/event/worship-services-2020-07-05/
LOCATION:The Door Southeast Church\, 1702 GOLIAD RD\, San Antonio\, TX\, 78223\, United States
CATEGORIES:Worship Service
END:VEVENT
BEGIN:VEVENT
DTSTART;TZID=America/Chicago:20200705T083000
DTEND;TZID=America/Chicago:20200705T093000
DTSTAMP:20260419T211340
CREATED:20200118T231054Z
LAST-MODIFIED:20200118T231430Z
UID:31063-1593937800-1593941400@thedoorse.com
SUMMARY:Serious Men's Class
DESCRIPTION:For men only. Punctuality demonstrates your commitment. Please arrive 5 minutes before class begins. Men arriving after 8:30am will not be permitted in the class.
URL:https://thedoorse.com/event/serious-mens-class-2020-07-05/
LOCATION:The Door Southeast Church\, 1702 GOLIAD RD\, San Antonio\, TX\, 78223\, United States
END:VEVENT
BEGIN:VEVENT
DTSTART;TZID=America/Chicago:20200703T200000
DTEND;TZID=America/Chicago:20200703T213000
DTSTAMP:20260419T211340
CREATED:20200314T010825Z
LAST-MODIFIED:20200314T010825Z
UID:32222-1593806400-1593811800@thedoorse.com
SUMMARY:Concert
DESCRIPTION:
URL:https://thedoorse.com/event/concert-2020-07-03/
LOCATION:The Door Southeast Church\, 1702 GOLIAD RD\, San Antonio\, TX\, 78223\, United States
END:VEVENT
BEGIN:VEVENT
DTSTART;TZID=America/Chicago:20200628T110000
DTEND;TZID=America/Chicago:20200628T123000
DTSTAMP:20260419T211340
CREATED:20171128T165316Z
LAST-MODIFIED:20200517T044111Z
UID:30805-1593342000-1593347400@thedoorse.com
SUMMARY:Worship Services
DESCRIPTION:  \n\nPrayer 6pm to 7pm\nEvening Service 7pm to 8:30pm\n\n 
URL:https://thedoorse.com/event/worship-services-2020-06-28/
LOCATION:The Door Southeast Church\, 1702 GOLIAD RD\, San Antonio\, TX\, 78223\, United States
CATEGORIES:Worship Service
END:VEVENT
BEGIN:VEVENT
DTSTART;TZID=America/Chicago:20200628T100000
DTEND;TZID=America/Chicago:20200628T123000
DTSTAMP:20260419T211340
CREATED:20200517T042552Z
LAST-MODIFIED:20200517T050033Z
UID:32292-1593338400-1593347400@thedoorse.com
SUMMARY:Worship Service
DESCRIPTION:In Person & Live Streaming \n11am to 12:30pm Service \n7pm to 8:30pm \nPrayer 6pm to 7pm \n 
URL:https://thedoorse.com/event/worship-service-2-2020-06-28/
LOCATION:The Door Southeast Church\, 1702 GOLIAD RD\, San Antonio\, TX\, 78223\, United States
CATEGORIES:Worship Service
END:VEVENT
BEGIN:VEVENT
DTSTART;TZID=America/Chicago:20200628T083000
DTEND;TZID=America/Chicago:20200628T093000
DTSTAMP:20260419T211340
CREATED:20200118T231054Z
LAST-MODIFIED:20200118T231429Z
UID:31061-1593333000-1593336600@thedoorse.com
SUMMARY:Serious Men's Class
DESCRIPTION:For men only. Punctuality demonstrates your commitment. Please arrive 5 minutes before class begins. Men arriving after 8:30am will not be permitted in the class.
URL:https://thedoorse.com/event/serious-mens-class-2020-06-28/
LOCATION:The Door Southeast Church\, 1702 GOLIAD RD\, San Antonio\, TX\, 78223\, United States
END:VEVENT
END:VCALENDAR