BEGIN:VCALENDAR
VERSION:2.0
PRODID:-//The Door Southeast San Antonio - ECPv6.15.20//NONSGML v1.0//EN
CALSCALE:GREGORIAN
METHOD:PUBLISH
X-WR-CALNAME:The Door Southeast San Antonio
X-ORIGINAL-URL:https://thedoorse.com
X-WR-CALDESC:Events for The Door Southeast San Antonio
REFRESH-INTERVAL;VALUE=DURATION:PT1H
X-Robots-Tag:noindex
X-PUBLISHED-TTL:PT1H
BEGIN:VTIMEZONE
TZID:America/Chicago
BEGIN:DAYLIGHT
TZOFFSETFROM:-0600
TZOFFSETTO:-0500
TZNAME:CDT
DTSTART:20190310T080000
END:DAYLIGHT
BEGIN:STANDARD
TZOFFSETFROM:-0500
TZOFFSETTO:-0600
TZNAME:CST
DTSTART:20191103T070000
END:STANDARD
BEGIN:DAYLIGHT
TZOFFSETFROM:-0600
TZOFFSETTO:-0500
TZNAME:CDT
DTSTART:20200308T080000
END:DAYLIGHT
BEGIN:STANDARD
TZOFFSETFROM:-0500
TZOFFSETTO:-0600
TZNAME:CST
DTSTART:20201101T070000
END:STANDARD
BEGIN:DAYLIGHT
TZOFFSETFROM:-0600
TZOFFSETTO:-0500
TZNAME:CDT
DTSTART:20210314T080000
END:DAYLIGHT
BEGIN:STANDARD
TZOFFSETFROM:-0500
TZOFFSETTO:-0600
TZNAME:CST
DTSTART:20211107T070000
END:STANDARD
END:VTIMEZONE
BEGIN:VEVENT
DTSTART;TZID=America/Chicago:20200717T200000
DTEND;TZID=America/Chicago:20200717T213000
DTSTAMP:20260420T003204
CREATED:20200314T010825Z
LAST-MODIFIED:20200314T010825Z
UID:32224-1595016000-1595021400@thedoorse.com
SUMMARY:Concert
DESCRIPTION:
URL:https://thedoorse.com/event/concert-2020-07-17/
LOCATION:The Door Southeast Church\, 1702 GOLIAD RD\, San Antonio\, TX\, 78223\, United States
END:VEVENT
BEGIN:VEVENT
DTSTART;TZID=America/Chicago:20200712T110000
DTEND;TZID=America/Chicago:20200712T123000
DTSTAMP:20260420T003204
CREATED:20171128T165316Z
LAST-MODIFIED:20200517T044114Z
UID:30809-1594551600-1594557000@thedoorse.com
SUMMARY:Worship Services
DESCRIPTION:  \n\nPrayer 6pm to 7pm\nEvening Service 7pm to 8:30pm\n\n 
URL:https://thedoorse.com/event/worship-services-2020-07-12/
LOCATION:The Door Southeast Church\, 1702 GOLIAD RD\, San Antonio\, TX\, 78223\, United States
CATEGORIES:Worship Service
END:VEVENT
BEGIN:VEVENT
DTSTART;TZID=America/Chicago:20200712T083000
DTEND;TZID=America/Chicago:20200712T093000
DTSTAMP:20260420T003204
CREATED:20200118T231054Z
LAST-MODIFIED:20200118T231431Z
UID:31065-1594542600-1594546200@thedoorse.com
SUMMARY:Serious Men's Class
DESCRIPTION:For men only. Punctuality demonstrates your commitment. Please arrive 5 minutes before class begins. Men arriving after 8:30am will not be permitted in the class.
URL:https://thedoorse.com/event/serious-mens-class-2020-07-12/
LOCATION:The Door Southeast Church\, 1702 GOLIAD RD\, San Antonio\, TX\, 78223\, United States
END:VEVENT
BEGIN:VEVENT
DTSTART;TZID=America/Chicago:20200710T200000
DTEND;TZID=America/Chicago:20200710T213000
DTSTAMP:20260420T003204
CREATED:20200314T010825Z
LAST-MODIFIED:20200314T010825Z
UID:32223-1594411200-1594416600@thedoorse.com
SUMMARY:Concert
DESCRIPTION:
URL:https://thedoorse.com/event/concert-2020-07-10/
LOCATION:The Door Southeast Church\, 1702 GOLIAD RD\, San Antonio\, TX\, 78223\, United States
END:VEVENT
BEGIN:VEVENT
DTSTART;TZID=America/Chicago:20200705T110000
DTEND;TZID=America/Chicago:20200705T123000
DTSTAMP:20260420T003204
CREATED:20171128T165316Z
LAST-MODIFIED:20200517T044113Z
UID:30807-1593946800-1593952200@thedoorse.com
SUMMARY:Worship Services
DESCRIPTION:  \n\nPrayer 6pm to 7pm\nEvening Service 7pm to 8:30pm\n\n 
URL:https://thedoorse.com/event/worship-services-2020-07-05/
LOCATION:The Door Southeast Church\, 1702 GOLIAD RD\, San Antonio\, TX\, 78223\, United States
CATEGORIES:Worship Service
END:VEVENT
BEGIN:VEVENT
DTSTART;TZID=America/Chicago:20200705T083000
DTEND;TZID=America/Chicago:20200705T093000
DTSTAMP:20260420T003204
CREATED:20200118T231054Z
LAST-MODIFIED:20200118T231430Z
UID:31063-1593937800-1593941400@thedoorse.com
SUMMARY:Serious Men's Class
DESCRIPTION:For men only. Punctuality demonstrates your commitment. Please arrive 5 minutes before class begins. Men arriving after 8:30am will not be permitted in the class.
URL:https://thedoorse.com/event/serious-mens-class-2020-07-05/
LOCATION:The Door Southeast Church\, 1702 GOLIAD RD\, San Antonio\, TX\, 78223\, United States
END:VEVENT
BEGIN:VEVENT
DTSTART;TZID=America/Chicago:20200703T200000
DTEND;TZID=America/Chicago:20200703T213000
DTSTAMP:20260420T003204
CREATED:20200314T010825Z
LAST-MODIFIED:20200314T010825Z
UID:32222-1593806400-1593811800@thedoorse.com
SUMMARY:Concert
DESCRIPTION:
URL:https://thedoorse.com/event/concert-2020-07-03/
LOCATION:The Door Southeast Church\, 1702 GOLIAD RD\, San Antonio\, TX\, 78223\, United States
END:VEVENT
BEGIN:VEVENT
DTSTART;TZID=America/Chicago:20200628T110000
DTEND;TZID=America/Chicago:20200628T123000
DTSTAMP:20260420T003204
CREATED:20171128T165316Z
LAST-MODIFIED:20200517T044111Z
UID:30805-1593342000-1593347400@thedoorse.com
SUMMARY:Worship Services
DESCRIPTION:  \n\nPrayer 6pm to 7pm\nEvening Service 7pm to 8:30pm\n\n 
URL:https://thedoorse.com/event/worship-services-2020-06-28/
LOCATION:The Door Southeast Church\, 1702 GOLIAD RD\, San Antonio\, TX\, 78223\, United States
CATEGORIES:Worship Service
END:VEVENT
BEGIN:VEVENT
DTSTART;TZID=America/Chicago:20200628T100000
DTEND;TZID=America/Chicago:20200628T123000
DTSTAMP:20260420T003204
CREATED:20200517T042552Z
LAST-MODIFIED:20200517T050033Z
UID:32292-1593338400-1593347400@thedoorse.com
SUMMARY:Worship Service
DESCRIPTION:In Person & Live Streaming \n11am to 12:30pm Service \n7pm to 8:30pm \nPrayer 6pm to 7pm \n 
URL:https://thedoorse.com/event/worship-service-2-2020-06-28/
LOCATION:The Door Southeast Church\, 1702 GOLIAD RD\, San Antonio\, TX\, 78223\, United States
CATEGORIES:Worship Service
END:VEVENT
BEGIN:VEVENT
DTSTART;TZID=America/Chicago:20200628T083000
DTEND;TZID=America/Chicago:20200628T093000
DTSTAMP:20260420T003204
CREATED:20200118T231054Z
LAST-MODIFIED:20200118T231429Z
UID:31061-1593333000-1593336600@thedoorse.com
SUMMARY:Serious Men's Class
DESCRIPTION:For men only. Punctuality demonstrates your commitment. Please arrive 5 minutes before class begins. Men arriving after 8:30am will not be permitted in the class.
URL:https://thedoorse.com/event/serious-mens-class-2020-06-28/
LOCATION:The Door Southeast Church\, 1702 GOLIAD RD\, San Antonio\, TX\, 78223\, United States
END:VEVENT
BEGIN:VEVENT
DTSTART;TZID=America/Chicago:20200626T200000
DTEND;TZID=America/Chicago:20200626T213000
DTSTAMP:20260420T003204
CREATED:20200314T010825Z
LAST-MODIFIED:20200314T010825Z
UID:32221-1593201600-1593207000@thedoorse.com
SUMMARY:Concert
DESCRIPTION:
URL:https://thedoorse.com/event/concert-2020-06-26/
LOCATION:The Door Southeast Church\, 1702 GOLIAD RD\, San Antonio\, TX\, 78223\, United States
END:VEVENT
BEGIN:VEVENT
DTSTART;TZID=America/Chicago:20200621T110000
DTEND;TZID=America/Chicago:20200621T123000
DTSTAMP:20260420T003204
CREATED:20171128T165316Z
LAST-MODIFIED:20200517T044111Z
UID:30803-1592737200-1592742600@thedoorse.com
SUMMARY:Worship Services
DESCRIPTION:  \n\nPrayer 6pm to 7pm\nEvening Service 7pm to 8:30pm\n\n 
URL:https://thedoorse.com/event/worship-services-2020-06-21/
LOCATION:The Door Southeast Church\, 1702 GOLIAD RD\, San Antonio\, TX\, 78223\, United States
CATEGORIES:Worship Service
END:VEVENT
BEGIN:VEVENT
DTSTART;TZID=America/Chicago:20200621T100000
DTEND;TZID=America/Chicago:20200621T123000
DTSTAMP:20260420T003204
CREATED:20200517T042552Z
LAST-MODIFIED:20200517T050033Z
UID:32291-1592733600-1592742600@thedoorse.com
SUMMARY:Worship Service
DESCRIPTION:In Person & Live Streaming \n11am to 12:30pm Service \n7pm to 8:30pm \nPrayer 6pm to 7pm \n 
URL:https://thedoorse.com/event/worship-service-2-2020-06-21/
LOCATION:The Door Southeast Church\, 1702 GOLIAD RD\, San Antonio\, TX\, 78223\, United States
CATEGORIES:Worship Service
END:VEVENT
BEGIN:VEVENT
DTSTART;TZID=America/Chicago:20200621T083000
DTEND;TZID=America/Chicago:20200621T093000
DTSTAMP:20260420T003204
CREATED:20200118T231054Z
LAST-MODIFIED:20200118T231428Z
UID:31059-1592728200-1592731800@thedoorse.com
SUMMARY:Serious Men's Class
DESCRIPTION:For men only. Punctuality demonstrates your commitment. Please arrive 5 minutes before class begins. Men arriving after 8:30am will not be permitted in the class.
URL:https://thedoorse.com/event/serious-mens-class-2020-06-21/
LOCATION:The Door Southeast Church\, 1702 GOLIAD RD\, San Antonio\, TX\, 78223\, United States
END:VEVENT
BEGIN:VEVENT
DTSTART;TZID=America/Chicago:20200619T200000
DTEND;TZID=America/Chicago:20200619T213000
DTSTAMP:20260420T003204
CREATED:20200314T010825Z
LAST-MODIFIED:20200314T010825Z
UID:32220-1592596800-1592602200@thedoorse.com
SUMMARY:Concert
DESCRIPTION:
URL:https://thedoorse.com/event/concert-2020-06-19/
LOCATION:The Door Southeast Church\, 1702 GOLIAD RD\, San Antonio\, TX\, 78223\, United States
END:VEVENT
BEGIN:VEVENT
DTSTART;TZID=America/Chicago:20200614T110000
DTEND;TZID=America/Chicago:20200614T123000
DTSTAMP:20260420T003204
CREATED:20171128T165316Z
LAST-MODIFIED:20200517T044111Z
UID:30801-1592132400-1592137800@thedoorse.com
SUMMARY:Worship Services
DESCRIPTION:  \n\nPrayer 6pm to 7pm\nEvening Service 7pm to 8:30pm\n\n 
URL:https://thedoorse.com/event/worship-services-2020-06-14/
LOCATION:The Door Southeast Church\, 1702 GOLIAD RD\, San Antonio\, TX\, 78223\, United States
CATEGORIES:Worship Service
END:VEVENT
BEGIN:VEVENT
DTSTART;TZID=America/Chicago:20200614T100000
DTEND;TZID=America/Chicago:20200614T123000
DTSTAMP:20260420T003204
CREATED:20200517T042552Z
LAST-MODIFIED:20200517T050033Z
UID:32290-1592128800-1592137800@thedoorse.com
SUMMARY:Worship Service
DESCRIPTION:In Person & Live Streaming \n11am to 12:30pm Service \n7pm to 8:30pm \nPrayer 6pm to 7pm \n 
URL:https://thedoorse.com/event/worship-service-2-2020-06-14/
LOCATION:The Door Southeast Church\, 1702 GOLIAD RD\, San Antonio\, TX\, 78223\, United States
CATEGORIES:Worship Service
END:VEVENT
BEGIN:VEVENT
DTSTART;TZID=America/Chicago:20200614T083000
DTEND;TZID=America/Chicago:20200614T093000
DTSTAMP:20260420T003204
CREATED:20200118T231054Z
LAST-MODIFIED:20200118T231427Z
UID:31057-1592123400-1592127000@thedoorse.com
SUMMARY:Serious Men's Class
DESCRIPTION:For men only. Punctuality demonstrates your commitment. Please arrive 5 minutes before class begins. Men arriving after 8:30am will not be permitted in the class.
URL:https://thedoorse.com/event/serious-mens-class-2020-06-14/
LOCATION:The Door Southeast Church\, 1702 GOLIAD RD\, San Antonio\, TX\, 78223\, United States
END:VEVENT
BEGIN:VEVENT
DTSTART;TZID=America/Chicago:20200612T200000
DTEND;TZID=America/Chicago:20200612T213000
DTSTAMP:20260420T003204
CREATED:20200314T010825Z
LAST-MODIFIED:20200314T010825Z
UID:32219-1591992000-1591997400@thedoorse.com
SUMMARY:Concert
DESCRIPTION:
URL:https://thedoorse.com/event/concert-2020-06-12/
LOCATION:The Door Southeast Church\, 1702 GOLIAD RD\, San Antonio\, TX\, 78223\, United States
END:VEVENT
BEGIN:VEVENT
DTSTART;TZID=America/Chicago:20200607T110000
DTEND;TZID=America/Chicago:20200607T123000
DTSTAMP:20260420T003204
CREATED:20171128T165316Z
LAST-MODIFIED:20200517T044111Z
UID:30799-1591527600-1591533000@thedoorse.com
SUMMARY:Worship Services
DESCRIPTION:  \n\nPrayer 6pm to 7pm\nEvening Service 7pm to 8:30pm\n\n 
URL:https://thedoorse.com/event/worship-services-2020-06-07/
LOCATION:The Door Southeast Church\, 1702 GOLIAD RD\, San Antonio\, TX\, 78223\, United States
CATEGORIES:Worship Service
END:VEVENT
BEGIN:VEVENT
DTSTART;TZID=America/Chicago:20200607T100000
DTEND;TZID=America/Chicago:20200607T123000
DTSTAMP:20260420T003204
CREATED:20200517T042552Z
LAST-MODIFIED:20200517T050032Z
UID:32289-1591524000-1591533000@thedoorse.com
SUMMARY:Worship Service
DESCRIPTION:In Person & Live Streaming \n11am to 12:30pm Service \n7pm to 8:30pm \nPrayer 6pm to 7pm \n 
URL:https://thedoorse.com/event/worship-service-2-2020-06-07/
LOCATION:The Door Southeast Church\, 1702 GOLIAD RD\, San Antonio\, TX\, 78223\, United States
CATEGORIES:Worship Service
END:VEVENT
BEGIN:VEVENT
DTSTART;TZID=America/Chicago:20200607T083000
DTEND;TZID=America/Chicago:20200607T093000
DTSTAMP:20260420T003204
CREATED:20200118T231054Z
LAST-MODIFIED:20200118T231424Z
UID:31055-1591518600-1591522200@thedoorse.com
SUMMARY:Serious Men's Class
DESCRIPTION:For men only. Punctuality demonstrates your commitment. Please arrive 5 minutes before class begins. Men arriving after 8:30am will not be permitted in the class.
URL:https://thedoorse.com/event/serious-mens-class-2020-06-07/
LOCATION:The Door Southeast Church\, 1702 GOLIAD RD\, San Antonio\, TX\, 78223\, United States
END:VEVENT
BEGIN:VEVENT
DTSTART;TZID=America/Chicago:20200605T200000
DTEND;TZID=America/Chicago:20200605T213000
DTSTAMP:20260420T003204
CREATED:20200314T010825Z
LAST-MODIFIED:20200314T010825Z
UID:32218-1591387200-1591392600@thedoorse.com
SUMMARY:Concert
DESCRIPTION:
URL:https://thedoorse.com/event/concert-2020-06-05/
LOCATION:The Door Southeast Church\, 1702 GOLIAD RD\, San Antonio\, TX\, 78223\, United States
END:VEVENT
BEGIN:VEVENT
DTSTART;TZID=America/Chicago:20200531T110000
DTEND;TZID=America/Chicago:20200531T123000
DTSTAMP:20260420T003204
CREATED:20171128T165316Z
LAST-MODIFIED:20200517T044111Z
UID:30789-1590922800-1590928200@thedoorse.com
SUMMARY:Worship Services
DESCRIPTION:  \n\nPrayer 6pm to 7pm\nEvening Service 7pm to 8:30pm\n\n 
URL:https://thedoorse.com/event/worship-services-2020-05-31/
LOCATION:The Door Southeast Church\, 1702 GOLIAD RD\, San Antonio\, TX\, 78223\, United States
CATEGORIES:Worship Service
END:VEVENT
BEGIN:VEVENT
DTSTART;TZID=America/Chicago:20200531T100000
DTEND;TZID=America/Chicago:20200531T123000
DTSTAMP:20260420T003204
CREATED:20200517T042552Z
LAST-MODIFIED:20200517T050032Z
UID:32288-1590919200-1590928200@thedoorse.com
SUMMARY:Worship Service
DESCRIPTION:In Person & Live Streaming \n11am to 12:30pm Service \n7pm to 8:30pm \nPrayer 6pm to 7pm \n 
URL:https://thedoorse.com/event/worship-service-2-2020-05-31/
LOCATION:The Door Southeast Church\, 1702 GOLIAD RD\, San Antonio\, TX\, 78223\, United States
CATEGORIES:Worship Service
END:VEVENT
BEGIN:VEVENT
DTSTART;TZID=America/Chicago:20200531T083000
DTEND;TZID=America/Chicago:20200531T093000
DTSTAMP:20260420T003204
CREATED:20200118T231054Z
LAST-MODIFIED:20200118T231424Z
UID:31053-1590913800-1590917400@thedoorse.com
SUMMARY:Serious Men's Class
DESCRIPTION:For men only. Punctuality demonstrates your commitment. Please arrive 5 minutes before class begins. Men arriving after 8:30am will not be permitted in the class.
URL:https://thedoorse.com/event/serious-mens-class-2020-05-31/
LOCATION:The Door Southeast Church\, 1702 GOLIAD RD\, San Antonio\, TX\, 78223\, United States
END:VEVENT
BEGIN:VEVENT
DTSTART;TZID=America/Chicago:20200530T120000
DTEND;TZID=America/Chicago:20200530T140000
DTSTAMP:20260420T003204
CREATED:20200119T032354Z
LAST-MODIFIED:20200119T033029Z
UID:32113-1590840000-1590847200@thedoorse.com
SUMMARY:Outreach
DESCRIPTION:Come join us to spread the gospel message.
URL:https://thedoorse.com/event/outreach-2020-05-30/
LOCATION:TX
CATEGORIES:Special Events
END:VEVENT
BEGIN:VEVENT
DTSTART;TZID=America/Chicago:20200529T200000
DTEND;TZID=America/Chicago:20200529T213000
DTSTAMP:20260420T003204
CREATED:20200314T010825Z
LAST-MODIFIED:20200314T010825Z
UID:32217-1590782400-1590787800@thedoorse.com
SUMMARY:Concert
DESCRIPTION:
URL:https://thedoorse.com/event/concert-2020-05-29/
LOCATION:The Door Southeast Church\, 1702 GOLIAD RD\, San Antonio\, TX\, 78223\, United States
END:VEVENT
BEGIN:VEVENT
DTSTART;TZID=America/Chicago:20200529T193000
DTEND;TZID=America/Chicago:20200529T210000
DTSTAMP:20260420T003204
CREATED:20200119T023137Z
LAST-MODIFIED:20200119T044051Z
UID:32041-1590780600-1590786000@thedoorse.com
SUMMARY:Adult Bible Study
DESCRIPTION:Please join us for practical teaching of God’s word. Call for location. \nChild care is provided
URL:https://thedoorse.com/event/adult-bible-study-2020-05-29/
LOCATION:TX
CATEGORIES:Bible Study
END:VEVENT
BEGIN:VEVENT
DTSTART;TZID=America/Chicago:20200529T193000
DTEND;TZID=America/Chicago:20200529T210000
DTSTAMP:20260420T003204
CREATED:20200119T022712Z
LAST-MODIFIED:20200119T043139Z
UID:32021-1590780600-1590786000@thedoorse.com
SUMMARY:Teen Bible Study
DESCRIPTION:Come join us for practical bible teaching.
URL:https://thedoorse.com/event/teen-bible-study-2020-05-29/
LOCATION:The Door Southeast Church\, 1702 GOLIAD RD\, San Antonio\, TX\, 78223\, United States
CATEGORIES:Bible Study
END:VEVENT
END:VCALENDAR