BEGIN:VCALENDAR
VERSION:2.0
PRODID:-//The Door Southeast San Antonio - ECPv6.15.20//NONSGML v1.0//EN
CALSCALE:GREGORIAN
METHOD:PUBLISH
X-WR-CALNAME:The Door Southeast San Antonio
X-ORIGINAL-URL:https://thedoorse.com
X-WR-CALDESC:Events for The Door Southeast San Antonio
REFRESH-INTERVAL;VALUE=DURATION:PT1H
X-Robots-Tag:noindex
X-PUBLISHED-TTL:PT1H
BEGIN:VTIMEZONE
TZID:America/Chicago
BEGIN:DAYLIGHT
TZOFFSETFROM:-0600
TZOFFSETTO:-0500
TZNAME:CDT
DTSTART:20190310T080000
END:DAYLIGHT
BEGIN:STANDARD
TZOFFSETFROM:-0500
TZOFFSETTO:-0600
TZNAME:CST
DTSTART:20191103T070000
END:STANDARD
BEGIN:DAYLIGHT
TZOFFSETFROM:-0600
TZOFFSETTO:-0500
TZNAME:CDT
DTSTART:20200308T080000
END:DAYLIGHT
BEGIN:STANDARD
TZOFFSETFROM:-0500
TZOFFSETTO:-0600
TZNAME:CST
DTSTART:20201101T070000
END:STANDARD
BEGIN:DAYLIGHT
TZOFFSETFROM:-0600
TZOFFSETTO:-0500
TZNAME:CDT
DTSTART:20210314T080000
END:DAYLIGHT
BEGIN:STANDARD
TZOFFSETFROM:-0500
TZOFFSETTO:-0600
TZNAME:CST
DTSTART:20211107T070000
END:STANDARD
END:VTIMEZONE
BEGIN:VEVENT
DTSTART;TZID=America/Chicago:20200424T193000
DTEND;TZID=America/Chicago:20200424T210000
DTSTAMP:20260424T103143
CREATED:20200119T022712Z
LAST-MODIFIED:20200119T043137Z
UID:32016-1587756600-1587762000@thedoorse.com
SUMMARY:Teen Bible Study
DESCRIPTION:Come join us for practical bible teaching.
URL:https://thedoorse.com/event/teen-bible-study-2020-04-24/
LOCATION:The Door Southeast Church\, 1702 GOLIAD RD\, San Antonio\, TX\, 78223\, United States
CATEGORIES:Bible Study
END:VEVENT
BEGIN:VEVENT
DTSTART;TZID=America/Chicago:20200422T193000
DTEND;TZID=America/Chicago:20200422T210000
DTSTAMP:20260424T103143
CREATED:20171128T165316Z
LAST-MODIFIED:20171128T165316Z
UID:32307-1587583800-1587589200@thedoorse.com
SUMMARY:Worship Services
DESCRIPTION:  \n\nPrayer 6pm to 7pm\nEvening Service 7pm to 8:30pm\n\n 
URL:https://thedoorse.com/event/worship-services-2020-04-22/
LOCATION:The Door Southeast Church\, 1702 GOLIAD RD\, San Antonio\, TX\, 78223\, United States
CATEGORIES:Worship Service
END:VEVENT
BEGIN:VEVENT
DTSTART;TZID=America/Chicago:20200422T193000
DTEND;TZID=America/Chicago:20200422T203000
DTSTAMP:20260424T103143
CREATED:20200119T015915Z
LAST-MODIFIED:20200119T015915Z
UID:31962-1587583800-1587587400@thedoorse.com
SUMMARY:Worship Service
DESCRIPTION:Prayer one hour before. \nNursery provided.
URL:https://thedoorse.com/event/worship-service-2020-04-22/
LOCATION:TX
END:VEVENT
BEGIN:VEVENT
DTSTART;TZID=America/Chicago:20200419T110000
DTEND;TZID=America/Chicago:20200419T123000
DTSTAMP:20260424T103143
CREATED:20171128T165316Z
LAST-MODIFIED:20200517T044103Z
UID:30777-1587294000-1587299400@thedoorse.com
SUMMARY:Worship Services
DESCRIPTION:  \n\nPrayer 6pm to 7pm\nEvening Service 7pm to 8:30pm\n\n 
URL:https://thedoorse.com/event/worship-services-2020-04-19/
LOCATION:The Door Southeast Church\, 1702 GOLIAD RD\, San Antonio\, TX\, 78223\, United States
CATEGORIES:Worship Service
END:VEVENT
BEGIN:VEVENT
DTSTART;TZID=America/Chicago:20200419T083000
DTEND;TZID=America/Chicago:20200419T093000
DTSTAMP:20260424T103143
CREATED:20200118T231054Z
LAST-MODIFIED:20200118T231416Z
UID:31041-1587285000-1587288600@thedoorse.com
SUMMARY:Serious Men's Class
DESCRIPTION:For men only. Punctuality demonstrates your commitment. Please arrive 5 minutes before class begins. Men arriving after 8:30am will not be permitted in the class.
URL:https://thedoorse.com/event/serious-mens-class-2020-04-19/
LOCATION:The Door Southeast Church\, 1702 GOLIAD RD\, San Antonio\, TX\, 78223\, United States
END:VEVENT
BEGIN:VEVENT
DTSTART;TZID=America/Chicago:20200418T120000
DTEND;TZID=America/Chicago:20200418T140000
DTSTAMP:20260424T103143
CREATED:20200119T032354Z
LAST-MODIFIED:20200119T033027Z
UID:32107-1587211200-1587218400@thedoorse.com
SUMMARY:Outreach
DESCRIPTION:Come join us to spread the gospel message.
URL:https://thedoorse.com/event/outreach-2020-04-18/
LOCATION:TX
CATEGORIES:Special Events
END:VEVENT
BEGIN:VEVENT
DTSTART;TZID=America/Chicago:20200417T200000
DTEND;TZID=America/Chicago:20200417T213000
DTSTAMP:20260424T103143
CREATED:20200314T010825Z
LAST-MODIFIED:20200314T010825Z
UID:32211-1587153600-1587159000@thedoorse.com
SUMMARY:Concert
DESCRIPTION:
URL:https://thedoorse.com/event/concert-2020-04-17/
LOCATION:The Door Southeast Church\, 1702 GOLIAD RD\, San Antonio\, TX\, 78223\, United States
END:VEVENT
BEGIN:VEVENT
DTSTART;TZID=America/Chicago:20200417T193000
DTEND;TZID=America/Chicago:20200417T210000
DTSTAMP:20260424T103143
CREATED:20200119T023137Z
LAST-MODIFIED:20200119T044049Z
UID:32035-1587151800-1587157200@thedoorse.com
SUMMARY:Adult Bible Study
DESCRIPTION:Please join us for practical teaching of God’s word. Call for location. \nChild care is provided
URL:https://thedoorse.com/event/adult-bible-study-2020-04-17/
LOCATION:TX
CATEGORIES:Bible Study
END:VEVENT
BEGIN:VEVENT
DTSTART;TZID=America/Chicago:20200417T193000
DTEND;TZID=America/Chicago:20200417T210000
DTSTAMP:20260424T103143
CREATED:20200119T022712Z
LAST-MODIFIED:20200119T043137Z
UID:32015-1587151800-1587157200@thedoorse.com
SUMMARY:Teen Bible Study
DESCRIPTION:Come join us for practical bible teaching.
URL:https://thedoorse.com/event/teen-bible-study-2020-04-17/
LOCATION:The Door Southeast Church\, 1702 GOLIAD RD\, San Antonio\, TX\, 78223\, United States
CATEGORIES:Bible Study
END:VEVENT
BEGIN:VEVENT
DTSTART;TZID=America/Chicago:20200415T193000
DTEND;TZID=America/Chicago:20200415T210000
DTSTAMP:20260424T103143
CREATED:20171128T165316Z
LAST-MODIFIED:20171128T165316Z
UID:32306-1586979000-1586984400@thedoorse.com
SUMMARY:Worship Services
DESCRIPTION:  \n\nPrayer 6pm to 7pm\nEvening Service 7pm to 8:30pm\n\n 
URL:https://thedoorse.com/event/worship-services-2020-04-15/
LOCATION:The Door Southeast Church\, 1702 GOLIAD RD\, San Antonio\, TX\, 78223\, United States
CATEGORIES:Worship Service
END:VEVENT
BEGIN:VEVENT
DTSTART;TZID=America/Chicago:20200415T193000
DTEND;TZID=America/Chicago:20200415T203000
DTSTAMP:20260424T103143
CREATED:20200119T015915Z
LAST-MODIFIED:20200119T015915Z
UID:31961-1586979000-1586982600@thedoorse.com
SUMMARY:Worship Service
DESCRIPTION:Prayer one hour before. \nNursery provided.
URL:https://thedoorse.com/event/worship-service-2020-04-15/
LOCATION:TX
END:VEVENT
BEGIN:VEVENT
DTSTART;TZID=America/Chicago:20200412T110000
DTEND;TZID=America/Chicago:20200412T123000
DTSTAMP:20260424T103143
CREATED:20171128T165316Z
LAST-MODIFIED:20200517T044103Z
UID:30775-1586689200-1586694600@thedoorse.com
SUMMARY:Worship Services
DESCRIPTION:  \n\nPrayer 6pm to 7pm\nEvening Service 7pm to 8:30pm\n\n 
URL:https://thedoorse.com/event/worship-services-2020-04-12/
LOCATION:The Door Southeast Church\, 1702 GOLIAD RD\, San Antonio\, TX\, 78223\, United States
CATEGORIES:Worship Service
END:VEVENT
BEGIN:VEVENT
DTSTART;TZID=America/Chicago:20200412T083000
DTEND;TZID=America/Chicago:20200412T093000
DTSTAMP:20260424T103143
CREATED:20200118T231054Z
LAST-MODIFIED:20200118T231415Z
UID:31039-1586680200-1586683800@thedoorse.com
SUMMARY:Serious Men's Class
DESCRIPTION:For men only. Punctuality demonstrates your commitment. Please arrive 5 minutes before class begins. Men arriving after 8:30am will not be permitted in the class.
URL:https://thedoorse.com/event/serious-mens-class-2020-04-12/
LOCATION:The Door Southeast Church\, 1702 GOLIAD RD\, San Antonio\, TX\, 78223\, United States
END:VEVENT
BEGIN:VEVENT
DTSTART;TZID=America/Chicago:20200411T120000
DTEND;TZID=America/Chicago:20200411T140000
DTSTAMP:20260424T103143
CREATED:20200119T032354Z
LAST-MODIFIED:20200119T033027Z
UID:32106-1586606400-1586613600@thedoorse.com
SUMMARY:Outreach
DESCRIPTION:Come join us to spread the gospel message.
URL:https://thedoorse.com/event/outreach-2020-04-11/
LOCATION:TX
CATEGORIES:Special Events
END:VEVENT
BEGIN:VEVENT
DTSTART;TZID=America/Chicago:20200410T200000
DTEND;TZID=America/Chicago:20200410T213000
DTSTAMP:20260424T103143
CREATED:20200314T010825Z
LAST-MODIFIED:20200314T010825Z
UID:32210-1586548800-1586554200@thedoorse.com
SUMMARY:Concert
DESCRIPTION:
URL:https://thedoorse.com/event/concert-2020-04-10/
LOCATION:The Door Southeast Church\, 1702 GOLIAD RD\, San Antonio\, TX\, 78223\, United States
END:VEVENT
BEGIN:VEVENT
DTSTART;TZID=America/Chicago:20200410T193000
DTEND;TZID=America/Chicago:20200410T210000
DTSTAMP:20260424T103143
CREATED:20200119T023137Z
LAST-MODIFIED:20200119T044048Z
UID:32034-1586547000-1586552400@thedoorse.com
SUMMARY:Adult Bible Study
DESCRIPTION:Please join us for practical teaching of God’s word. Call for location. \nChild care is provided
URL:https://thedoorse.com/event/adult-bible-study-2020-04-10/
LOCATION:TX
CATEGORIES:Bible Study
END:VEVENT
BEGIN:VEVENT
DTSTART;TZID=America/Chicago:20200410T193000
DTEND;TZID=America/Chicago:20200410T210000
DTSTAMP:20260424T103143
CREATED:20200119T022712Z
LAST-MODIFIED:20200119T043137Z
UID:32014-1586547000-1586552400@thedoorse.com
SUMMARY:Teen Bible Study
DESCRIPTION:Come join us for practical bible teaching.
URL:https://thedoorse.com/event/teen-bible-study-2020-04-10/
LOCATION:The Door Southeast Church\, 1702 GOLIAD RD\, San Antonio\, TX\, 78223\, United States
CATEGORIES:Bible Study
END:VEVENT
BEGIN:VEVENT
DTSTART;TZID=America/Chicago:20200408T193000
DTEND;TZID=America/Chicago:20200408T210000
DTSTAMP:20260424T103143
CREATED:20171128T165316Z
LAST-MODIFIED:20171128T165316Z
UID:32305-1586374200-1586379600@thedoorse.com
SUMMARY:Worship Services
DESCRIPTION:  \n\nPrayer 6pm to 7pm\nEvening Service 7pm to 8:30pm\n\n 
URL:https://thedoorse.com/event/worship-services-2020-04-08/
LOCATION:The Door Southeast Church\, 1702 GOLIAD RD\, San Antonio\, TX\, 78223\, United States
CATEGORIES:Worship Service
END:VEVENT
BEGIN:VEVENT
DTSTART;TZID=America/Chicago:20200408T193000
DTEND;TZID=America/Chicago:20200408T203000
DTSTAMP:20260424T103143
CREATED:20200119T015915Z
LAST-MODIFIED:20200119T015915Z
UID:31960-1586374200-1586377800@thedoorse.com
SUMMARY:Worship Service
DESCRIPTION:Prayer one hour before. \nNursery provided.
URL:https://thedoorse.com/event/worship-service-2020-04-08/
LOCATION:TX
END:VEVENT
BEGIN:VEVENT
DTSTART;TZID=America/Chicago:20200405T110000
DTEND;TZID=America/Chicago:20200405T123000
DTSTAMP:20260424T103143
CREATED:20171128T165316Z
LAST-MODIFIED:20200517T044103Z
UID:30773-1586084400-1586089800@thedoorse.com
SUMMARY:Worship Services
DESCRIPTION:  \n\nPrayer 6pm to 7pm\nEvening Service 7pm to 8:30pm\n\n 
URL:https://thedoorse.com/event/worship-services-2020-04-05/
LOCATION:The Door Southeast Church\, 1702 GOLIAD RD\, San Antonio\, TX\, 78223\, United States
CATEGORIES:Worship Service
END:VEVENT
BEGIN:VEVENT
DTSTART;TZID=America/Chicago:20200405T083000
DTEND;TZID=America/Chicago:20200405T093000
DTSTAMP:20260424T103143
CREATED:20200118T231054Z
LAST-MODIFIED:20200118T231415Z
UID:31037-1586075400-1586079000@thedoorse.com
SUMMARY:Serious Men's Class
DESCRIPTION:For men only. Punctuality demonstrates your commitment. Please arrive 5 minutes before class begins. Men arriving after 8:30am will not be permitted in the class.
URL:https://thedoorse.com/event/serious-mens-class-2020-04-05/
LOCATION:The Door Southeast Church\, 1702 GOLIAD RD\, San Antonio\, TX\, 78223\, United States
END:VEVENT
BEGIN:VEVENT
DTSTART;TZID=America/Chicago:20200404T120000
DTEND;TZID=America/Chicago:20200404T140000
DTSTAMP:20260424T103143
CREATED:20200119T032354Z
LAST-MODIFIED:20200119T033019Z
UID:32105-1586001600-1586008800@thedoorse.com
SUMMARY:Outreach
DESCRIPTION:Come join us to spread the gospel message.
URL:https://thedoorse.com/event/outreach-2020-04-04/
LOCATION:TX
CATEGORIES:Special Events
END:VEVENT
BEGIN:VEVENT
DTSTART;TZID=America/Chicago:20200403T200000
DTEND;TZID=America/Chicago:20200403T213000
DTSTAMP:20260424T103143
CREATED:20200314T010825Z
LAST-MODIFIED:20200314T010825Z
UID:32209-1585944000-1585949400@thedoorse.com
SUMMARY:Concert
DESCRIPTION:
URL:https://thedoorse.com/event/concert-2020-04-03/
LOCATION:The Door Southeast Church\, 1702 GOLIAD RD\, San Antonio\, TX\, 78223\, United States
END:VEVENT
BEGIN:VEVENT
DTSTART;TZID=America/Chicago:20200403T193000
DTEND;TZID=America/Chicago:20200403T210000
DTSTAMP:20260424T103143
CREATED:20200119T023137Z
LAST-MODIFIED:20200119T044041Z
UID:32033-1585942200-1585947600@thedoorse.com
SUMMARY:Adult Bible Study
DESCRIPTION:Please join us for practical teaching of God’s word. Call for location. \nChild care is provided
URL:https://thedoorse.com/event/adult-bible-study-2020-04-03/
LOCATION:TX
CATEGORIES:Bible Study
END:VEVENT
BEGIN:VEVENT
DTSTART;TZID=America/Chicago:20200403T193000
DTEND;TZID=America/Chicago:20200403T210000
DTSTAMP:20260424T103143
CREATED:20200119T022712Z
LAST-MODIFIED:20200119T043128Z
UID:32013-1585942200-1585947600@thedoorse.com
SUMMARY:Teen Bible Study
DESCRIPTION:Come join us for practical bible teaching.
URL:https://thedoorse.com/event/teen-bible-study-2020-04-03/
LOCATION:The Door Southeast Church\, 1702 GOLIAD RD\, San Antonio\, TX\, 78223\, United States
CATEGORIES:Bible Study
END:VEVENT
BEGIN:VEVENT
DTSTART;TZID=America/Chicago:20200401T193000
DTEND;TZID=America/Chicago:20200401T210000
DTSTAMP:20260424T103143
CREATED:20171128T165316Z
LAST-MODIFIED:20171128T165316Z
UID:32304-1585769400-1585774800@thedoorse.com
SUMMARY:Worship Services
DESCRIPTION:  \n\nPrayer 6pm to 7pm\nEvening Service 7pm to 8:30pm\n\n 
URL:https://thedoorse.com/event/worship-services-2020-04-01/
LOCATION:The Door Southeast Church\, 1702 GOLIAD RD\, San Antonio\, TX\, 78223\, United States
CATEGORIES:Worship Service
END:VEVENT
BEGIN:VEVENT
DTSTART;TZID=America/Chicago:20200401T193000
DTEND;TZID=America/Chicago:20200401T203000
DTSTAMP:20260424T103143
CREATED:20200119T015915Z
LAST-MODIFIED:20200119T015915Z
UID:31959-1585769400-1585773000@thedoorse.com
SUMMARY:Worship Service
DESCRIPTION:Prayer one hour before. \nNursery provided.
URL:https://thedoorse.com/event/worship-service-2020-04-01/
LOCATION:TX
END:VEVENT
BEGIN:VEVENT
DTSTART;TZID=America/Chicago:20200329T110000
DTEND;TZID=America/Chicago:20200329T123000
DTSTAMP:20260424T103143
CREATED:20171128T165316Z
LAST-MODIFIED:20200517T044103Z
UID:30771-1585479600-1585485000@thedoorse.com
SUMMARY:Worship Services
DESCRIPTION:  \n\nPrayer 6pm to 7pm\nEvening Service 7pm to 8:30pm\n\n 
URL:https://thedoorse.com/event/worship-services-2020-03-29/
LOCATION:The Door Southeast Church\, 1702 GOLIAD RD\, San Antonio\, TX\, 78223\, United States
CATEGORIES:Worship Service
END:VEVENT
BEGIN:VEVENT
DTSTART;TZID=America/Chicago:20200329T083000
DTEND;TZID=America/Chicago:20200329T093000
DTSTAMP:20260424T103143
CREATED:20200118T231054Z
LAST-MODIFIED:20200118T231411Z
UID:31035-1585470600-1585474200@thedoorse.com
SUMMARY:Serious Men's Class
DESCRIPTION:For men only. Punctuality demonstrates your commitment. Please arrive 5 minutes before class begins. Men arriving after 8:30am will not be permitted in the class.
URL:https://thedoorse.com/event/serious-mens-class-2020-03-29/
LOCATION:The Door Southeast Church\, 1702 GOLIAD RD\, San Antonio\, TX\, 78223\, United States
END:VEVENT
BEGIN:VEVENT
DTSTART;TZID=America/Chicago:20200328T120000
DTEND;TZID=America/Chicago:20200328T140000
DTSTAMP:20260424T103143
CREATED:20200119T032354Z
LAST-MODIFIED:20200119T033019Z
UID:32104-1585396800-1585404000@thedoorse.com
SUMMARY:Outreach
DESCRIPTION:Come join us to spread the gospel message.
URL:https://thedoorse.com/event/outreach-2020-03-28/
LOCATION:TX
CATEGORIES:Special Events
END:VEVENT
END:VCALENDAR