BEGIN:VCALENDAR
VERSION:2.0
PRODID:-//The Door Southeast San Antonio - ECPv6.15.20//NONSGML v1.0//EN
CALSCALE:GREGORIAN
METHOD:PUBLISH
X-WR-CALNAME:The Door Southeast San Antonio
X-ORIGINAL-URL:https://thedoorse.com
X-WR-CALDESC:Events for The Door Southeast San Antonio
REFRESH-INTERVAL;VALUE=DURATION:PT1H
X-Robots-Tag:noindex
X-PUBLISHED-TTL:PT1H
BEGIN:VTIMEZONE
TZID:America/Chicago
BEGIN:DAYLIGHT
TZOFFSETFROM:-0600
TZOFFSETTO:-0500
TZNAME:CDT
DTSTART:20190310T080000
END:DAYLIGHT
BEGIN:STANDARD
TZOFFSETFROM:-0500
TZOFFSETTO:-0600
TZNAME:CST
DTSTART:20191103T070000
END:STANDARD
BEGIN:DAYLIGHT
TZOFFSETFROM:-0600
TZOFFSETTO:-0500
TZNAME:CDT
DTSTART:20200308T080000
END:DAYLIGHT
BEGIN:STANDARD
TZOFFSETFROM:-0500
TZOFFSETTO:-0600
TZNAME:CST
DTSTART:20201101T070000
END:STANDARD
BEGIN:DAYLIGHT
TZOFFSETFROM:-0600
TZOFFSETTO:-0500
TZNAME:CDT
DTSTART:20210314T080000
END:DAYLIGHT
BEGIN:STANDARD
TZOFFSETFROM:-0500
TZOFFSETTO:-0600
TZNAME:CST
DTSTART:20211107T070000
END:STANDARD
END:VTIMEZONE
BEGIN:VEVENT
DTSTART;TZID=America/Chicago:20200405T083000
DTEND;TZID=America/Chicago:20200405T093000
DTSTAMP:20260424T135954
CREATED:20200118T231054Z
LAST-MODIFIED:20200118T231415Z
UID:31037-1586075400-1586079000@thedoorse.com
SUMMARY:Serious Men's Class
DESCRIPTION:For men only. Punctuality demonstrates your commitment. Please arrive 5 minutes before class begins. Men arriving after 8:30am will not be permitted in the class.
URL:https://thedoorse.com/event/serious-mens-class-2020-04-05/
LOCATION:The Door Southeast Church\, 1702 GOLIAD RD\, San Antonio\, TX\, 78223\, United States
END:VEVENT
BEGIN:VEVENT
DTSTART;TZID=America/Chicago:20200404T120000
DTEND;TZID=America/Chicago:20200404T140000
DTSTAMP:20260424T135954
CREATED:20200119T032354Z
LAST-MODIFIED:20200119T033019Z
UID:32105-1586001600-1586008800@thedoorse.com
SUMMARY:Outreach
DESCRIPTION:Come join us to spread the gospel message.
URL:https://thedoorse.com/event/outreach-2020-04-04/
LOCATION:TX
CATEGORIES:Special Events
END:VEVENT
BEGIN:VEVENT
DTSTART;TZID=America/Chicago:20200403T200000
DTEND;TZID=America/Chicago:20200403T213000
DTSTAMP:20260424T135954
CREATED:20200314T010825Z
LAST-MODIFIED:20200314T010825Z
UID:32209-1585944000-1585949400@thedoorse.com
SUMMARY:Concert
DESCRIPTION:
URL:https://thedoorse.com/event/concert-2020-04-03/
LOCATION:The Door Southeast Church\, 1702 GOLIAD RD\, San Antonio\, TX\, 78223\, United States
END:VEVENT
BEGIN:VEVENT
DTSTART;TZID=America/Chicago:20200403T193000
DTEND;TZID=America/Chicago:20200403T210000
DTSTAMP:20260424T135954
CREATED:20200119T023137Z
LAST-MODIFIED:20200119T044041Z
UID:32033-1585942200-1585947600@thedoorse.com
SUMMARY:Adult Bible Study
DESCRIPTION:Please join us for practical teaching of God’s word. Call for location. \nChild care is provided
URL:https://thedoorse.com/event/adult-bible-study-2020-04-03/
LOCATION:TX
CATEGORIES:Bible Study
END:VEVENT
BEGIN:VEVENT
DTSTART;TZID=America/Chicago:20200403T193000
DTEND;TZID=America/Chicago:20200403T210000
DTSTAMP:20260424T135954
CREATED:20200119T022712Z
LAST-MODIFIED:20200119T043128Z
UID:32013-1585942200-1585947600@thedoorse.com
SUMMARY:Teen Bible Study
DESCRIPTION:Come join us for practical bible teaching.
URL:https://thedoorse.com/event/teen-bible-study-2020-04-03/
LOCATION:The Door Southeast Church\, 1702 GOLIAD RD\, San Antonio\, TX\, 78223\, United States
CATEGORIES:Bible Study
END:VEVENT
BEGIN:VEVENT
DTSTART;TZID=America/Chicago:20200401T193000
DTEND;TZID=America/Chicago:20200401T210000
DTSTAMP:20260424T135954
CREATED:20171128T165316Z
LAST-MODIFIED:20171128T165316Z
UID:32304-1585769400-1585774800@thedoorse.com
SUMMARY:Worship Services
DESCRIPTION:  \n\nPrayer 6pm to 7pm\nEvening Service 7pm to 8:30pm\n\n 
URL:https://thedoorse.com/event/worship-services-2020-04-01/
LOCATION:The Door Southeast Church\, 1702 GOLIAD RD\, San Antonio\, TX\, 78223\, United States
CATEGORIES:Worship Service
END:VEVENT
BEGIN:VEVENT
DTSTART;TZID=America/Chicago:20200401T193000
DTEND;TZID=America/Chicago:20200401T203000
DTSTAMP:20260424T135954
CREATED:20200119T015915Z
LAST-MODIFIED:20200119T015915Z
UID:31959-1585769400-1585773000@thedoorse.com
SUMMARY:Worship Service
DESCRIPTION:Prayer one hour before. \nNursery provided.
URL:https://thedoorse.com/event/worship-service-2020-04-01/
LOCATION:TX
END:VEVENT
BEGIN:VEVENT
DTSTART;TZID=America/Chicago:20200329T110000
DTEND;TZID=America/Chicago:20200329T123000
DTSTAMP:20260424T135954
CREATED:20171128T165316Z
LAST-MODIFIED:20200517T044103Z
UID:30771-1585479600-1585485000@thedoorse.com
SUMMARY:Worship Services
DESCRIPTION:  \n\nPrayer 6pm to 7pm\nEvening Service 7pm to 8:30pm\n\n 
URL:https://thedoorse.com/event/worship-services-2020-03-29/
LOCATION:The Door Southeast Church\, 1702 GOLIAD RD\, San Antonio\, TX\, 78223\, United States
CATEGORIES:Worship Service
END:VEVENT
BEGIN:VEVENT
DTSTART;TZID=America/Chicago:20200329T083000
DTEND;TZID=America/Chicago:20200329T093000
DTSTAMP:20260424T135954
CREATED:20200118T231054Z
LAST-MODIFIED:20200118T231411Z
UID:31035-1585470600-1585474200@thedoorse.com
SUMMARY:Serious Men's Class
DESCRIPTION:For men only. Punctuality demonstrates your commitment. Please arrive 5 minutes before class begins. Men arriving after 8:30am will not be permitted in the class.
URL:https://thedoorse.com/event/serious-mens-class-2020-03-29/
LOCATION:The Door Southeast Church\, 1702 GOLIAD RD\, San Antonio\, TX\, 78223\, United States
END:VEVENT
BEGIN:VEVENT
DTSTART;TZID=America/Chicago:20200328T120000
DTEND;TZID=America/Chicago:20200328T140000
DTSTAMP:20260424T135954
CREATED:20200119T032354Z
LAST-MODIFIED:20200119T033019Z
UID:32104-1585396800-1585404000@thedoorse.com
SUMMARY:Outreach
DESCRIPTION:Come join us to spread the gospel message.
URL:https://thedoorse.com/event/outreach-2020-03-28/
LOCATION:TX
CATEGORIES:Special Events
END:VEVENT
BEGIN:VEVENT
DTSTART;TZID=America/Chicago:20200327T200000
DTEND;TZID=America/Chicago:20200327T213000
DTSTAMP:20260424T135954
CREATED:20200314T010825Z
LAST-MODIFIED:20200314T010825Z
UID:32208-1585339200-1585344600@thedoorse.com
SUMMARY:Concert
DESCRIPTION:
URL:https://thedoorse.com/event/concert-2020-03-27/
LOCATION:The Door Southeast Church\, 1702 GOLIAD RD\, San Antonio\, TX\, 78223\, United States
END:VEVENT
BEGIN:VEVENT
DTSTART;TZID=America/Chicago:20200327T193000
DTEND;TZID=America/Chicago:20200327T210000
DTSTAMP:20260424T135954
CREATED:20200119T023137Z
LAST-MODIFIED:20200119T044041Z
UID:32032-1585337400-1585342800@thedoorse.com
SUMMARY:Adult Bible Study
DESCRIPTION:Please join us for practical teaching of God’s word. Call for location. \nChild care is provided
URL:https://thedoorse.com/event/adult-bible-study-2020-03-27/
LOCATION:TX
CATEGORIES:Bible Study
END:VEVENT
BEGIN:VEVENT
DTSTART;TZID=America/Chicago:20200327T193000
DTEND;TZID=America/Chicago:20200327T210000
DTSTAMP:20260424T135954
CREATED:20200119T022712Z
LAST-MODIFIED:20200119T043127Z
UID:32012-1585337400-1585342800@thedoorse.com
SUMMARY:Teen Bible Study
DESCRIPTION:Come join us for practical bible teaching.
URL:https://thedoorse.com/event/teen-bible-study-2020-03-27/
LOCATION:The Door Southeast Church\, 1702 GOLIAD RD\, San Antonio\, TX\, 78223\, United States
CATEGORIES:Bible Study
END:VEVENT
BEGIN:VEVENT
DTSTART;TZID=America/Chicago:20200325T193000
DTEND;TZID=America/Chicago:20200325T210000
DTSTAMP:20260424T135954
CREATED:20171128T165316Z
LAST-MODIFIED:20171128T165316Z
UID:32303-1585164600-1585170000@thedoorse.com
SUMMARY:Worship Services
DESCRIPTION:  \n\nPrayer 6pm to 7pm\nEvening Service 7pm to 8:30pm\n\n 
URL:https://thedoorse.com/event/worship-services-2020-03-25/
LOCATION:The Door Southeast Church\, 1702 GOLIAD RD\, San Antonio\, TX\, 78223\, United States
CATEGORIES:Worship Service
END:VEVENT
BEGIN:VEVENT
DTSTART;TZID=America/Chicago:20200325T193000
DTEND;TZID=America/Chicago:20200325T203000
DTSTAMP:20260424T135954
CREATED:20200119T015915Z
LAST-MODIFIED:20200119T015915Z
UID:31958-1585164600-1585168200@thedoorse.com
SUMMARY:Worship Service
DESCRIPTION:Prayer one hour before. \nNursery provided.
URL:https://thedoorse.com/event/worship-service-2020-03-25/
LOCATION:TX
END:VEVENT
BEGIN:VEVENT
DTSTART;TZID=America/Chicago:20200322T110000
DTEND;TZID=America/Chicago:20200322T123000
DTSTAMP:20260424T135954
CREATED:20171128T165316Z
LAST-MODIFIED:20200517T044102Z
UID:30769-1584874800-1584880200@thedoorse.com
SUMMARY:Worship Services
DESCRIPTION:  \n\nPrayer 6pm to 7pm\nEvening Service 7pm to 8:30pm\n\n 
URL:https://thedoorse.com/event/worship-services-2020-03-22/
LOCATION:The Door Southeast Church\, 1702 GOLIAD RD\, San Antonio\, TX\, 78223\, United States
CATEGORIES:Worship Service
END:VEVENT
BEGIN:VEVENT
DTSTART;TZID=America/Chicago:20200322T083000
DTEND;TZID=America/Chicago:20200322T093000
DTSTAMP:20260424T135954
CREATED:20200118T231054Z
LAST-MODIFIED:20200118T231411Z
UID:31033-1584865800-1584869400@thedoorse.com
SUMMARY:Serious Men's Class
DESCRIPTION:For men only. Punctuality demonstrates your commitment. Please arrive 5 minutes before class begins. Men arriving after 8:30am will not be permitted in the class.
URL:https://thedoorse.com/event/serious-mens-class-2020-03-22/
LOCATION:The Door Southeast Church\, 1702 GOLIAD RD\, San Antonio\, TX\, 78223\, United States
END:VEVENT
BEGIN:VEVENT
DTSTART;TZID=America/Chicago:20200321T200000
DTEND;TZID=America/Chicago:20200321T213000
DTSTAMP:20260424T135954
CREATED:20200314T010825Z
LAST-MODIFIED:20200314T010825Z
UID:32206-1584820800-1584826200@thedoorse.com
SUMMARY:Concert
DESCRIPTION:
URL:https://thedoorse.com/event/concert/
LOCATION:The Door Southeast Church\, 1702 GOLIAD RD\, San Antonio\, TX\, 78223\, United States
END:VEVENT
BEGIN:VEVENT
DTSTART;TZID=America/Chicago:20200321T120000
DTEND;TZID=America/Chicago:20200321T140000
DTSTAMP:20260424T135954
CREATED:20200119T032354Z
LAST-MODIFIED:20200119T033019Z
UID:32103-1584792000-1584799200@thedoorse.com
SUMMARY:Outreach
DESCRIPTION:Come join us to spread the gospel message.
URL:https://thedoorse.com/event/outreach-2020-03-21/
LOCATION:TX
CATEGORIES:Special Events
END:VEVENT
BEGIN:VEVENT
DTSTART;TZID=America/Chicago:20200320T193000
DTEND;TZID=America/Chicago:20200320T210000
DTSTAMP:20260424T135954
CREATED:20200119T023137Z
LAST-MODIFIED:20200119T044040Z
UID:32031-1584732600-1584738000@thedoorse.com
SUMMARY:Adult Bible Study
DESCRIPTION:Please join us for practical teaching of God’s word. Call for location. \nChild care is provided
URL:https://thedoorse.com/event/adult-bible-study-2020-03-20/
LOCATION:TX
CATEGORIES:Bible Study
END:VEVENT
BEGIN:VEVENT
DTSTART;TZID=America/Chicago:20200320T193000
DTEND;TZID=America/Chicago:20200320T210000
DTSTAMP:20260424T135954
CREATED:20200119T022712Z
LAST-MODIFIED:20200119T043127Z
UID:32011-1584732600-1584738000@thedoorse.com
SUMMARY:Teen Bible Study
DESCRIPTION:Come join us for practical bible teaching.
URL:https://thedoorse.com/event/teen-bible-study-2020-03-20/
LOCATION:The Door Southeast Church\, 1702 GOLIAD RD\, San Antonio\, TX\, 78223\, United States
CATEGORIES:Bible Study
END:VEVENT
BEGIN:VEVENT
DTSTART;TZID=America/Chicago:20200318T193000
DTEND;TZID=America/Chicago:20200318T210000
DTSTAMP:20260424T135954
CREATED:20171128T165316Z
LAST-MODIFIED:20171128T165316Z
UID:32302-1584559800-1584565200@thedoorse.com
SUMMARY:Worship Services
DESCRIPTION:  \n\nPrayer 6pm to 7pm\nEvening Service 7pm to 8:30pm\n\n 
URL:https://thedoorse.com/event/worship-services-2020-03-18/
LOCATION:The Door Southeast Church\, 1702 GOLIAD RD\, San Antonio\, TX\, 78223\, United States
CATEGORIES:Worship Service
END:VEVENT
BEGIN:VEVENT
DTSTART;TZID=America/Chicago:20200318T193000
DTEND;TZID=America/Chicago:20200318T203000
DTSTAMP:20260424T135954
CREATED:20200119T015915Z
LAST-MODIFIED:20200119T015915Z
UID:31957-1584559800-1584563400@thedoorse.com
SUMMARY:Worship Service
DESCRIPTION:Prayer one hour before. \nNursery provided.
URL:https://thedoorse.com/event/worship-service-2020-03-18/
LOCATION:TX
END:VEVENT
BEGIN:VEVENT
DTSTART;TZID=America/Chicago:20200315T110000
DTEND;TZID=America/Chicago:20200315T123000
DTSTAMP:20260424T135954
CREATED:20171128T165316Z
LAST-MODIFIED:20200517T044102Z
UID:30767-1584270000-1584275400@thedoorse.com
SUMMARY:Worship Services
DESCRIPTION:  \n\nPrayer 6pm to 7pm\nEvening Service 7pm to 8:30pm\n\n 
URL:https://thedoorse.com/event/worship-services-2020-03-15/
LOCATION:The Door Southeast Church\, 1702 GOLIAD RD\, San Antonio\, TX\, 78223\, United States
CATEGORIES:Worship Service
END:VEVENT
BEGIN:VEVENT
DTSTART;TZID=America/Chicago:20200315T083000
DTEND;TZID=America/Chicago:20200315T093000
DTSTAMP:20260424T135954
CREATED:20200118T231054Z
LAST-MODIFIED:20200118T231410Z
UID:31031-1584261000-1584264600@thedoorse.com
SUMMARY:Serious Men's Class
DESCRIPTION:For men only. Punctuality demonstrates your commitment. Please arrive 5 minutes before class begins. Men arriving after 8:30am will not be permitted in the class.
URL:https://thedoorse.com/event/serious-mens-class-2020-03-15/
LOCATION:The Door Southeast Church\, 1702 GOLIAD RD\, San Antonio\, TX\, 78223\, United States
END:VEVENT
BEGIN:VEVENT
DTSTART;TZID=America/Chicago:20200314T120000
DTEND;TZID=America/Chicago:20200314T140000
DTSTAMP:20260424T135954
CREATED:20200119T032354Z
LAST-MODIFIED:20200314T012037Z
UID:32102-1584187200-1584194400@thedoorse.com
SUMMARY:Outreach @ The Great NW Church
DESCRIPTION:Come join us to spread the gospel message.
URL:https://thedoorse.com/event/outreach-2020-03-14/
LOCATION:The Door Christian Fellowship Great Northwest\, 6111 Tezel Rd #103\, San Antonio\, TX\, 78250\, United States
CATEGORIES:Special Events
END:VEVENT
BEGIN:VEVENT
DTSTART;TZID=America/Chicago:20200311T193000
DTEND;TZID=America/Chicago:20200311T210000
DTSTAMP:20260424T135954
CREATED:20200221T052532Z
LAST-MODIFIED:20200221T060736Z
UID:32195-1583955000-1583960400@thedoorse.com
SUMMARY:Revival with Richard Valerio
DESCRIPTION:
URL:https://thedoorse.com/event/revival-with-richard-valerio-2020-03-11/
LOCATION:The Door Southeast Church\, 1702 GOLIAD RD\, San Antonio\, TX\, 78223\, United States
END:VEVENT
BEGIN:VEVENT
DTSTART;TZID=America/Chicago:20200311T193000
DTEND;TZID=America/Chicago:20200311T210000
DTSTAMP:20260424T135954
CREATED:20171128T165316Z
LAST-MODIFIED:20171128T165316Z
UID:32301-1583955000-1583960400@thedoorse.com
SUMMARY:Worship Services
DESCRIPTION:  \n\nPrayer 6pm to 7pm\nEvening Service 7pm to 8:30pm\n\n 
URL:https://thedoorse.com/event/worship-services-2020-03-11/
LOCATION:The Door Southeast Church\, 1702 GOLIAD RD\, San Antonio\, TX\, 78223\, United States
CATEGORIES:Worship Service
END:VEVENT
BEGIN:VEVENT
DTSTART;TZID=America/Chicago:20200311T193000
DTEND;TZID=America/Chicago:20200311T203000
DTSTAMP:20260424T135954
CREATED:20200119T015915Z
LAST-MODIFIED:20200119T015915Z
UID:31956-1583955000-1583958600@thedoorse.com
SUMMARY:Worship Service
DESCRIPTION:Prayer one hour before. \nNursery provided.
URL:https://thedoorse.com/event/worship-service-2020-03-11/
LOCATION:TX
END:VEVENT
BEGIN:VEVENT
DTSTART;TZID=America/Chicago:20200310T193000
DTEND;TZID=America/Chicago:20200310T210000
DTSTAMP:20260424T135954
CREATED:20200221T052532Z
LAST-MODIFIED:20200221T060736Z
UID:32194-1583868600-1583874000@thedoorse.com
SUMMARY:Revival with Richard Valerio
DESCRIPTION:
URL:https://thedoorse.com/event/revival-with-richard-valerio-2020-03-10/
LOCATION:The Door Southeast Church\, 1702 GOLIAD RD\, San Antonio\, TX\, 78223\, United States
END:VEVENT
END:VCALENDAR