BEGIN:VCALENDAR
VERSION:2.0
PRODID:-//The Door Southeast San Antonio - ECPv6.15.20//NONSGML v1.0//EN
CALSCALE:GREGORIAN
METHOD:PUBLISH
X-ORIGINAL-URL:https://thedoorse.com
X-WR-CALDESC:Events for The Door Southeast San Antonio
REFRESH-INTERVAL;VALUE=DURATION:PT1H
X-Robots-Tag:noindex
X-PUBLISHED-TTL:PT1H
BEGIN:VTIMEZONE
TZID:America/Chicago
BEGIN:DAYLIGHT
TZOFFSETFROM:-0600
TZOFFSETTO:-0500
TZNAME:CDT
DTSTART:20190310T080000
END:DAYLIGHT
BEGIN:STANDARD
TZOFFSETFROM:-0500
TZOFFSETTO:-0600
TZNAME:CST
DTSTART:20191103T070000
END:STANDARD
BEGIN:DAYLIGHT
TZOFFSETFROM:-0600
TZOFFSETTO:-0500
TZNAME:CDT
DTSTART:20200308T080000
END:DAYLIGHT
BEGIN:STANDARD
TZOFFSETFROM:-0500
TZOFFSETTO:-0600
TZNAME:CST
DTSTART:20201101T070000
END:STANDARD
BEGIN:DAYLIGHT
TZOFFSETFROM:-0600
TZOFFSETTO:-0500
TZNAME:CDT
DTSTART:20210314T080000
END:DAYLIGHT
BEGIN:STANDARD
TZOFFSETFROM:-0500
TZOFFSETTO:-0600
TZNAME:CST
DTSTART:20211107T070000
END:STANDARD
END:VTIMEZONE
BEGIN:VEVENT
DTSTART;TZID=America/Chicago:20200221T193000
DTEND;TZID=America/Chicago:20200221T210000
DTSTAMP:20260424T201734
CREATED:20200119T022712Z
LAST-MODIFIED:20200119T043126Z
UID:32007-1582313400-1582318800@thedoorse.com
SUMMARY:Teen Bible Study
DESCRIPTION:Come join us for practical bible teaching.
URL:https://thedoorse.com/event/teen-bible-study-2020-02-21/
LOCATION:The Door Southeast Church\, 1702 GOLIAD RD\, San Antonio\, TX\, 78223\, United States
CATEGORIES:Bible Study
END:VEVENT
BEGIN:VEVENT
DTSTART;TZID=America/Chicago:20200219T193000
DTEND;TZID=America/Chicago:20200219T210000
DTSTAMP:20260424T201734
CREATED:20171128T165316Z
LAST-MODIFIED:20171128T165316Z
UID:32298-1582140600-1582146000@thedoorse.com
SUMMARY:Worship Services
DESCRIPTION:  \n\nPrayer 6pm to 7pm\nEvening Service 7pm to 8:30pm\n\n 
URL:https://thedoorse.com/event/worship-services-2020-02-19/
LOCATION:The Door Southeast Church\, 1702 GOLIAD RD\, San Antonio\, TX\, 78223\, United States
CATEGORIES:Worship Service
END:VEVENT
BEGIN:VEVENT
DTSTART;TZID=America/Chicago:20200219T193000
DTEND;TZID=America/Chicago:20200219T203000
DTSTAMP:20260424T201734
CREATED:20200119T015915Z
LAST-MODIFIED:20200119T015915Z
UID:31953-1582140600-1582144200@thedoorse.com
SUMMARY:Worship Service
DESCRIPTION:Prayer one hour before. \nNursery provided.
URL:https://thedoorse.com/event/worship-service-2020-02-19/
LOCATION:TX
END:VEVENT
BEGIN:VEVENT
DTSTART;TZID=America/Chicago:20200218T193000
DTEND;TZID=America/Chicago:20200218T210000
DTSTAMP:20260424T201734
CREATED:20200209T215943Z
LAST-MODIFIED:20200209T215943Z
UID:32164-1582054200-1582059600@thedoorse.com
SUMMARY:Revival @ The Door Christian Fellowship
DESCRIPTION:Pastor Scott Lamb will be preaching
URL:https://thedoorse.com/event/revival-the-door-christian-fellowship-2020-02-18/
LOCATION:TX
END:VEVENT
BEGIN:VEVENT
DTSTART;TZID=America/Chicago:20200217T193000
DTEND;TZID=America/Chicago:20200217T210000
DTSTAMP:20260424T201734
CREATED:20200209T215943Z
LAST-MODIFIED:20200209T215943Z
UID:32162-1581967800-1581973200@thedoorse.com
SUMMARY:Revival @ The Door Christian Fellowship
DESCRIPTION:Pastor Scott Lamb will be preaching
URL:https://thedoorse.com/event/revival-the-door-christian-fellowship/
LOCATION:TX
END:VEVENT
BEGIN:VEVENT
DTSTART;TZID=America/Chicago:20200216T110000
DTEND;TZID=America/Chicago:20200216T123000
DTSTAMP:20260424T201734
CREATED:20171128T165316Z
LAST-MODIFIED:20200517T044101Z
UID:30759-1581850800-1581856200@thedoorse.com
SUMMARY:Worship Services
DESCRIPTION:  \n\nPrayer 6pm to 7pm\nEvening Service 7pm to 8:30pm\n\n 
URL:https://thedoorse.com/event/worship-services-2020-02-16/
LOCATION:The Door Southeast Church\, 1702 GOLIAD RD\, San Antonio\, TX\, 78223\, United States
CATEGORIES:Worship Service
END:VEVENT
BEGIN:VEVENT
DTSTART;TZID=America/Chicago:20200216T083000
DTEND;TZID=America/Chicago:20200216T093000
DTSTAMP:20260424T201734
CREATED:20200118T231054Z
LAST-MODIFIED:20200118T231358Z
UID:31023-1581841800-1581845400@thedoorse.com
SUMMARY:Serious Men's Class
DESCRIPTION:For men only. Punctuality demonstrates your commitment. Please arrive 5 minutes before class begins. Men arriving after 8:30am will not be permitted in the class.
URL:https://thedoorse.com/event/serious-mens-class-2020-02-16/
LOCATION:The Door Southeast Church\, 1702 GOLIAD RD\, San Antonio\, TX\, 78223\, United States
END:VEVENT
BEGIN:VEVENT
DTSTART;TZID=America/Chicago:20200215T120000
DTEND;TZID=America/Chicago:20200215T140000
DTSTAMP:20260424T201734
CREATED:20200119T032354Z
LAST-MODIFIED:20200119T033016Z
UID:32098-1581768000-1581775200@thedoorse.com
SUMMARY:Outreach
DESCRIPTION:Come join us to spread the gospel message.
URL:https://thedoorse.com/event/outreach-2020-02-15/
LOCATION:TX
CATEGORIES:Special Events
END:VEVENT
BEGIN:VEVENT
DTSTART;TZID=America/Chicago:20200215T090000
DTEND;TZID=America/Chicago:20200215T120000
DTSTAMP:20260424T201734
CREATED:20200119T031245Z
LAST-MODIFIED:20200119T031245Z
UID:32087-1581757200-1581768000@thedoorse.com
SUMMARY:Marriage Retreat
DESCRIPTION:Staybridge Suites Stone Oak \n808 N Loop 1604\, East 78232 \nDinner at Chama Gaucha Brazilian Steakhouse 8:30pm \n$230 \n 
URL:https://thedoorse.com/event/marriage-retreat-2020-02-15/
LOCATION:TX
CATEGORIES:Special Events
END:VEVENT
BEGIN:VEVENT
DTSTART;TZID=America/Chicago:20200214T203000
DTEND;TZID=America/Chicago:20200214T223000
DTSTAMP:20260424T201734
CREATED:20200119T031245Z
LAST-MODIFIED:20200119T031457Z
UID:32078-1581712200-1581719400@thedoorse.com
SUMMARY:Marriage Retreat
DESCRIPTION:Staybridge Suites Stone Oak \n808 N Loop 1604\, East 78232 \nDinner at Chama Gaucha Brazilian Steakhouse 8:30pm \n$230 \n 
URL:https://thedoorse.com/event/marriage-retreat/
LOCATION:TX
CATEGORIES:Special Events
END:VEVENT
BEGIN:VEVENT
DTSTART;TZID=America/Chicago:20200214T193000
DTEND;TZID=America/Chicago:20200214T210000
DTSTAMP:20260424T201734
CREATED:20200119T023137Z
LAST-MODIFIED:20200119T044038Z
UID:32026-1581708600-1581714000@thedoorse.com
SUMMARY:Adult Bible Study
DESCRIPTION:Please join us for practical teaching of God’s word. Call for location. \nChild care is provided
URL:https://thedoorse.com/event/adult-bible-study-2020-02-14/
LOCATION:TX
CATEGORIES:Bible Study
END:VEVENT
BEGIN:VEVENT
DTSTART;TZID=America/Chicago:20200214T193000
DTEND;TZID=America/Chicago:20200214T210000
DTSTAMP:20260424T201734
CREATED:20200119T022712Z
LAST-MODIFIED:20200119T043125Z
UID:32006-1581708600-1581714000@thedoorse.com
SUMMARY:Teen Bible Study
DESCRIPTION:Come join us for practical bible teaching.
URL:https://thedoorse.com/event/teen-bible-study-2020-02-14/
LOCATION:The Door Southeast Church\, 1702 GOLIAD RD\, San Antonio\, TX\, 78223\, United States
CATEGORIES:Bible Study
END:VEVENT
BEGIN:VEVENT
DTSTART;TZID=America/Chicago:20200212T193000
DTEND;TZID=America/Chicago:20200212T210000
DTSTAMP:20260424T201734
CREATED:20171128T165316Z
LAST-MODIFIED:20171128T165316Z
UID:32297-1581535800-1581541200@thedoorse.com
SUMMARY:Worship Services
DESCRIPTION:  \n\nPrayer 6pm to 7pm\nEvening Service 7pm to 8:30pm\n\n 
URL:https://thedoorse.com/event/worship-services-2020-02-12/
LOCATION:The Door Southeast Church\, 1702 GOLIAD RD\, San Antonio\, TX\, 78223\, United States
CATEGORIES:Worship Service
END:VEVENT
BEGIN:VEVENT
DTSTART;TZID=America/Chicago:20200212T193000
DTEND;TZID=America/Chicago:20200212T203000
DTSTAMP:20260424T201734
CREATED:20200119T015915Z
LAST-MODIFIED:20200119T015915Z
UID:31952-1581535800-1581539400@thedoorse.com
SUMMARY:Worship Service
DESCRIPTION:Prayer one hour before. \nNursery provided.
URL:https://thedoorse.com/event/worship-service-2020-02-12/
LOCATION:TX
END:VEVENT
BEGIN:VEVENT
DTSTART;TZID=America/Chicago:20200209T110000
DTEND;TZID=America/Chicago:20200209T123000
DTSTAMP:20260424T201734
CREATED:20171128T165316Z
LAST-MODIFIED:20200517T044056Z
UID:30757-1581246000-1581251400@thedoorse.com
SUMMARY:Worship Services
DESCRIPTION:  \n\nPrayer 6pm to 7pm\nEvening Service 7pm to 8:30pm\n\n 
URL:https://thedoorse.com/event/worship-services-2020-02-09/
LOCATION:The Door Southeast Church\, 1702 GOLIAD RD\, San Antonio\, TX\, 78223\, United States
CATEGORIES:Worship Service
END:VEVENT
BEGIN:VEVENT
DTSTART;TZID=America/Chicago:20200209T083000
DTEND;TZID=America/Chicago:20200209T093000
DTSTAMP:20260424T201734
CREATED:20200118T231054Z
LAST-MODIFIED:20200118T231357Z
UID:31021-1581237000-1581240600@thedoorse.com
SUMMARY:Serious Men's Class
DESCRIPTION:For men only. Punctuality demonstrates your commitment. Please arrive 5 minutes before class begins. Men arriving after 8:30am will not be permitted in the class.
URL:https://thedoorse.com/event/serious-mens-class-2020-02-09/
LOCATION:The Door Southeast Church\, 1702 GOLIAD RD\, San Antonio\, TX\, 78223\, United States
END:VEVENT
BEGIN:VEVENT
DTSTART;TZID=America/Chicago:20200208T120000
DTEND;TZID=America/Chicago:20200208T140000
DTSTAMP:20260424T201734
CREATED:20200119T032354Z
LAST-MODIFIED:20200119T033016Z
UID:32097-1581163200-1581170400@thedoorse.com
SUMMARY:Outreach
DESCRIPTION:Come join us to spread the gospel message.
URL:https://thedoorse.com/event/outreach-2020-02-08/
LOCATION:TX
CATEGORIES:Special Events
END:VEVENT
BEGIN:VEVENT
DTSTART;TZID=America/Chicago:20200207T193000
DTEND;TZID=America/Chicago:20200207T210000
DTSTAMP:20260424T201734
CREATED:20200119T023137Z
LAST-MODIFIED:20200119T044037Z
UID:32025-1581103800-1581109200@thedoorse.com
SUMMARY:Adult Bible Study
DESCRIPTION:Please join us for practical teaching of God’s word. Call for location. \nChild care is provided
URL:https://thedoorse.com/event/adult-bible-study-2020-02-07/
LOCATION:TX
CATEGORIES:Bible Study
END:VEVENT
BEGIN:VEVENT
DTSTART;TZID=America/Chicago:20200207T193000
DTEND;TZID=America/Chicago:20200207T210000
DTSTAMP:20260424T201734
CREATED:20200119T022712Z
LAST-MODIFIED:20200119T043125Z
UID:32005-1581103800-1581109200@thedoorse.com
SUMMARY:Teen Bible Study
DESCRIPTION:Come join us for practical bible teaching.
URL:https://thedoorse.com/event/teen-bible-study-2020-02-07/
LOCATION:The Door Southeast Church\, 1702 GOLIAD RD\, San Antonio\, TX\, 78223\, United States
CATEGORIES:Bible Study
END:VEVENT
BEGIN:VEVENT
DTSTART;TZID=America/Chicago:20200205T193000
DTEND;TZID=America/Chicago:20200205T210000
DTSTAMP:20260424T201734
CREATED:20171128T165316Z
LAST-MODIFIED:20171128T165316Z
UID:32296-1580931000-1580936400@thedoorse.com
SUMMARY:Worship Services
DESCRIPTION:  \n\nPrayer 6pm to 7pm\nEvening Service 7pm to 8:30pm\n\n 
URL:https://thedoorse.com/event/worship-services-2020-02-05/
LOCATION:The Door Southeast Church\, 1702 GOLIAD RD\, San Antonio\, TX\, 78223\, United States
CATEGORIES:Worship Service
END:VEVENT
BEGIN:VEVENT
DTSTART;TZID=America/Chicago:20200205T193000
DTEND;TZID=America/Chicago:20200205T203000
DTSTAMP:20260424T201734
CREATED:20200119T015915Z
LAST-MODIFIED:20200119T015915Z
UID:31951-1580931000-1580934600@thedoorse.com
SUMMARY:Worship Service
DESCRIPTION:Prayer one hour before. \nNursery provided.
URL:https://thedoorse.com/event/worship-service-2020-02-05/
LOCATION:TX
END:VEVENT
BEGIN:VEVENT
DTSTART;TZID=America/Chicago:20200202T110000
DTEND;TZID=America/Chicago:20200202T123000
DTSTAMP:20260424T201734
CREATED:20171128T165316Z
LAST-MODIFIED:20200517T044056Z
UID:30749-1580641200-1580646600@thedoorse.com
SUMMARY:Worship Services
DESCRIPTION:  \n\nPrayer 6pm to 7pm\nEvening Service 7pm to 8:30pm\n\n 
URL:https://thedoorse.com/event/worship-services-2020-02-02/
LOCATION:The Door Southeast Church\, 1702 GOLIAD RD\, San Antonio\, TX\, 78223\, United States
CATEGORIES:Worship Service
END:VEVENT
BEGIN:VEVENT
DTSTART;TZID=America/Chicago:20200202T083000
DTEND;TZID=America/Chicago:20200202T093000
DTSTAMP:20260424T201734
CREATED:20200118T231054Z
LAST-MODIFIED:20200118T231356Z
UID:31019-1580632200-1580635800@thedoorse.com
SUMMARY:Serious Men's Class
DESCRIPTION:For men only. Punctuality demonstrates your commitment. Please arrive 5 minutes before class begins. Men arriving after 8:30am will not be permitted in the class.
URL:https://thedoorse.com/event/serious-mens-class-2020-02-02/
LOCATION:The Door Southeast Church\, 1702 GOLIAD RD\, San Antonio\, TX\, 78223\, United States
END:VEVENT
BEGIN:VEVENT
DTSTART;TZID=America/Chicago:20200201T120000
DTEND;TZID=America/Chicago:20200201T140000
DTSTAMP:20260424T201734
CREATED:20200119T032354Z
LAST-MODIFIED:20200119T033015Z
UID:32096-1580558400-1580565600@thedoorse.com
SUMMARY:Outreach
DESCRIPTION:Come join us to spread the gospel message.
URL:https://thedoorse.com/event/outreach-2020-02-01/
LOCATION:TX
CATEGORIES:Special Events
END:VEVENT
BEGIN:VEVENT
DTSTART;TZID=America/Chicago:20200131T193000
DTEND;TZID=America/Chicago:20200131T210000
DTSTAMP:20260424T201734
CREATED:20200119T023137Z
LAST-MODIFIED:20200119T044037Z
UID:32024-1580499000-1580504400@thedoorse.com
SUMMARY:Adult Bible Study
DESCRIPTION:Please join us for practical teaching of God’s word. Call for location. \nChild care is provided
URL:https://thedoorse.com/event/adult-bible-study-2020-01-31/
LOCATION:TX
CATEGORIES:Bible Study
END:VEVENT
BEGIN:VEVENT
DTSTART;TZID=America/Chicago:20200131T193000
DTEND;TZID=America/Chicago:20200131T210000
DTSTAMP:20260424T201734
CREATED:20200119T022712Z
LAST-MODIFIED:20200119T043124Z
UID:32004-1580499000-1580504400@thedoorse.com
SUMMARY:Teen Bible Study
DESCRIPTION:Come join us for practical bible teaching.
URL:https://thedoorse.com/event/teen-bible-study-2020-01-31/
LOCATION:The Door Southeast Church\, 1702 GOLIAD RD\, San Antonio\, TX\, 78223\, United States
CATEGORIES:Bible Study
END:VEVENT
BEGIN:VEVENT
DTSTART;TZID=America/Chicago:20200129T193000
DTEND;TZID=America/Chicago:20200129T210000
DTSTAMP:20260424T201734
CREATED:20171128T165316Z
LAST-MODIFIED:20171128T165316Z
UID:32295-1580326200-1580331600@thedoorse.com
SUMMARY:Worship Services
DESCRIPTION:  \n\nPrayer 6pm to 7pm\nEvening Service 7pm to 8:30pm\n\n 
URL:https://thedoorse.com/event/worship-services-2020-01-29/
LOCATION:The Door Southeast Church\, 1702 GOLIAD RD\, San Antonio\, TX\, 78223\, United States
CATEGORIES:Worship Service
END:VEVENT
BEGIN:VEVENT
DTSTART;TZID=America/Chicago:20200129T193000
DTEND;TZID=America/Chicago:20200129T203000
DTSTAMP:20260424T201734
CREATED:20200119T015915Z
LAST-MODIFIED:20200119T015915Z
UID:31950-1580326200-1580329800@thedoorse.com
SUMMARY:Worship Service
DESCRIPTION:Prayer one hour before. \nNursery provided.
URL:https://thedoorse.com/event/worship-service-2020-01-29/
LOCATION:TX
END:VEVENT
BEGIN:VEVENT
DTSTART;TZID=America/Chicago:20200126T110000
DTEND;TZID=America/Chicago:20200126T123000
DTSTAMP:20260424T201734
CREATED:20171128T165316Z
LAST-MODIFIED:20200517T044055Z
UID:30747-1580036400-1580041800@thedoorse.com
SUMMARY:Worship Services
DESCRIPTION:  \n\nPrayer 6pm to 7pm\nEvening Service 7pm to 8:30pm\n\n 
URL:https://thedoorse.com/event/worship-services-2020-01-26/
LOCATION:The Door Southeast Church\, 1702 GOLIAD RD\, San Antonio\, TX\, 78223\, United States
CATEGORIES:Worship Service
END:VEVENT
BEGIN:VEVENT
DTSTART;TZID=America/Chicago:20200126T083000
DTEND;TZID=America/Chicago:20200126T093000
DTSTAMP:20260424T201734
CREATED:20200118T231054Z
LAST-MODIFIED:20200118T231355Z
UID:31017-1580027400-1580031000@thedoorse.com
SUMMARY:Serious Men's Class
DESCRIPTION:For men only. Punctuality demonstrates your commitment. Please arrive 5 minutes before class begins. Men arriving after 8:30am will not be permitted in the class.
URL:https://thedoorse.com/event/serious-mens-class-2020-01-26/
LOCATION:The Door Southeast Church\, 1702 GOLIAD RD\, San Antonio\, TX\, 78223\, United States
END:VEVENT
END:VCALENDAR